Workbook

Sheet รวมงบรายอำเภอ
A1: แบบสรุปโครงการมาตรการ
A2: เร่งด่วนแก้ปัญหาด้านการผลิตและรายได้ เพื่อเสริมสร้างความเข้มแข็ง
A4: จังหวัดนครศรีธรรมราช
A6: ลำดับ | B6: อำเภอ | C6: จำนวนโครงการ | D6: งบประมาณ | E6: งบประมาณที่อนุมัติ
A7: 1 | B7: ขนอม | C7: 1 | D7: 4504500
A8: 2 | B8: จุฬาภรณ์ | C8: 7 | D8: 1783660
A9: 3 | B9: ฉวาง | C9: 7 | D9: 3765000
A10: 4 | B10: เฉลิมพระเกียรติ | C10: 1 | D10: 1741500
A11: 5 | B11: ชะอวด | C11: 24 | D11: 48137900
A12: 6 | B12: ช้างกลาง | C12: 4 | D12: 6096000
A13: 7 | B13: เชียรใหญ่ | C13: 24 | D13: 29260900
A14: 8 | B14: ถ้ำพรรณรา | C14: 1 | D14: 1530000
A15: 9 | B15: ท่าศาลา | C15: 28 | D15: 3526400
A16: 10 | B16: ทุ่งสง | C16: 13 | D16: 4728390
A17: 11 | B17: ทุ่งใหญ่ | C17: 13 | D17: 2749610
A18: 12 | B18: นบพิตำ | C18: 9 | D18: 729000
... A29: 23 | B29: หัวไทร | C29: 11 | D29: 4356000
B30: รวม | C30: =SUM(C7:C29) -> 192 | D30: =SUM(D7:D29) -> 164406780

Sheet สรุปโครงการ
A1: แบบสรุปโครงการมาตรการ
A2: เร่งด่วนแก้ปัญหาด้านการผลิตและรายได้ เพื่อเสริมสร้างความเข้มแข็ง
A4: จังหวัดนครศรีธรรมราช
A6: ลำดับ | B6: อำเภอ | C6: โครงการ | D6: กลุ่มที่รองรับ/ที่ตั้ง | E6: กิจกรรม | F6: รหัส | G6: งบประมาณ | H6: ประชาชนได้รับประโยชน์ จำนวน (ครัวเรือน)
A7: 1 | B7: ขนอม | C7: ส่งเสริมการเลี้ยงไก่พื้นเมือง | D7: กลุ่มเกษตรกรผู้ปลูกยางพารา/ต.ขนอม ต.ควนทอง ต.ท้องเนียน อ.ขนอม | E7: จัดซื้อลูกไก่พันธุ์พื้นเมือง | F7: 3 | G7: 4504500 | H7: 3003 | I7: =ไก่พื้นเมือง!F10 -> 4504500
A8: 2 | B8: จุฬาภรณ์ | C8: โครงการจัดแสดงและจำหน่ายสินค้า OTOP | D8: คณะกรรมการเครือข่ายOTOP/อ.จุฬาภรณ์ | E8: ซื้อตู้โชว์สินค้าและบอร์ดประชาสัมพันธ์ | F8: 1 | G8: 17000 | H8: 20 | I8: =พัฒนาอาชีพ.OTOP!G8 -> 17000
A9: 3 | B9: จุฬาภรณ์ | C9: โครงการกลุ่มเกษตรอินทรีย์ศรีจุฬา เกษตรทฤษฎีใหม่แบบผสมผสาน | D9: กลุ่มเกษตรอินทรีย์ศรีจุฬา/ ต.นาหมอบุญ อ.จุฬาภรณ์ | E9: จัดซื้อวัสดุอุปกรณ์และเครื่องมือในการปลูกผักแบบผสมผสาน และจัดซื้อพันธุ์เป็ด ไก่ หมู โค พร้อมอุปกรณ์โรงเรือน | F9: ๒,๓,๖ | G9: 385000 | H9: 10 | I9: =ด้านการผลิตพืช!G8+ไก่พื้นเมือง!F12+ปัจจัยผลิตทางการเกษตร!G8 -> 385000
A10: 4 | B10: จุฬาภรณ์ | C10: โครงการส่งเสริมการเลี้ยงไก่พื้นเมืองลูกผสม | D10: กลุ่มเกษตรกรเลี้ยงไก่พื้นเมือง/ม.๑ ต.ทุ่งโพธิ์ อ.จุฬาภรณ์ | E10: จัดซื้อพันธุ์ไก่พื้นเมืองลูกผสมและอาหาร | F10: 3 | G10: 168000 | H10: 50 | I10: =ไก่พื้นเมือง!F11 -> 168000
A11: 5 | B11: จุฬาภรณ์ | C11: โครงการส่งเสริมการดำเนินชีวิตตามแนวเศรษฐกิจพอเพียง | D11: กลุ่มแม่บ้านสตรี/อ.จุฬาภรณ์ | E11: ฝึกอบรมให้ความรู้ในการดำเนินชีวิตตามแนวเศรษฐกิจพอเพียง | F11: 5 | G11: 129200 | H11: 300 | I11: =เศรษฐกิจพอเพียง!G8 -> 129200
A12: 6 | B12: จุฬาภรณ์ | C12: โครงการจัดสร้างแปลงพันธุ์มะนาวแป้นและจัดซื้ออุปกรณ์ในการเพาะพันธุ์ของกลุ่มอาชีพ เพาะพันธุ์มะนาวแป้นเพื่อจำหน่าย ต.ควนมุด | D12: กลุ่มอาชีพเพาะพันธุ์มะนาวแป้นเพื่อจำหน่าย/ต.บ้านควนมุด อ.จุฬาภรณ์ | E12: สร้างแปลงพันธุ์มะนาวแป้นและจัดซื้ออุปกรณ์ในการเพาะพันธุ์ของกลุ่มอาชีพ | F12: 2 | G12: 150000 | H12: 50 | I12: =ด้านการผลิตพืช!G9 -> 150000
A13: 7 | B13: จุฬาภรณ์ | C13: โครงการส่งเสริมและพัฒนาอาชีพบดเครื่องแกง | D13: กลุ่มเครื่องแกงสามตำบล/อ.จุฬาภรณ์ | E13: จัดซื้อวัสดุอุปกรณ์ในการจัดทำเครื่องแกงเพื่อจำหน่าย | F13: 1 | G13: 25250 | H13: 95 | I13: =พัฒนาอาชีพ.OTOP!G9 -> 25250
A14: 8 | B14: จุฬาภรณ์ | C14: โครงการช่วยเหลือกลุ่มเกษตรชาวสวนมังคุด | D14: กลุ่มวิสาหกิจชุมชนศูนย์รวบรวมและพัฒนาผลผลิตมังคุดเพ่อการส่งออก/ม.๕ ต.ทุ่งโพธิ์ อ.จุฬาภรณ์ | E14: จัดซื้อตะกร้าใส่ผลไม้ ปุ๋ยเคมี และเครื่องพ่นยาปราบศัตรูพืช | F14: 1 | G14: 909210 | H14: 175 | I14: =พัฒนาอาชีพ.OTOP!G10 -> 909210
A15: 9 | B15: ฉวาง | C15: โครงการเลี้ยงโคพันธุ์เนื้อ (ชาโลเล่) ต.นาแว | D15: กลุ่มส่งเสริมการเลี้ยงโคพันธุ์เนื้อ/ต.นาแว อ.ฉวาง | E15: เลี้ยงโคพันธุ์เนื้อ (ชาโลเล่) จัดซื้อโคและสร้างโรงเรือน | F15: ๓, ๖ | G15: 610000 | H15: 17 | I15: =โค!F16+ปัจจัยผลิตทางการเกษตร!G11 -> 610000
A16: 10 | B16: ฉวาง | C16: โครงการเลี้ยงโคพันธุ์พื้นเมืองบ้านหนองท่อม ต.ไม้เรียง | D16: กลุ่มเลี้ยงโคพันธุ์พื้นเมือง/ต.ไม้เรียง อ.ฉวาง | E16: เลี้ยงโคพันธุ์พื้นเมือง | F16: 3 | G16: 255000 | H16: 15 | I16: =โค!F11 -> 255000
A17: 11 | B17: ฉวาง | C17: โครงการเลี้ยงโคพื้นเมือง ต.นาเขลียง | D17: กลุ่มเลี้ยงโคพันธุ์พื้นเมือง/ต.นาเขลียง อ.ฉวาง | E17: เลี้ยงโคพันธุ์พื้นเมือง จัดอบรม ซื้อพันธุ์โค และสร้างโรงเรือน | F17: ๑, ๓, ๖ | G17: 906000 | H17: 20 | I17: =พัฒนาอาชีพ.OTOP!G11+โค!F12+ปัจจัยผลิตทางการเกษตร!G12 -> 906000
A18: 12 | B18: ฉวาง | C18: โครงการเลี้ยงโคพันธุ์เนื้อ (ชาโลเล่) ตำบลฉวาง | D18: กลุ่มส่งเสริมการเลี้ยงโคพันธุ์เนื้อ/ต.ฉวาง อ.ฉวาง | E18: เลี้ยงโคพันธุ์เนื้อ (ชาโลเล่) จัดซื้อโคและสร้างโรงเรือน | F18: ๓, ๖ | G18: 320000 | H18: 19 | I18: =โค!F15+ปัจจัยผลิตทางการเกษตร!G10 -> 320000
A19: 13 | B19: ฉวาง | C19: โครงการเลี้ยงโคพันธุ์พื้นเมือง ต.ละอาย | D19: กลุ่มอาชีพการเลี้ยงโคพันธุ์พื้นเมือง/ต.ละอาย อ.ฉวาง | E19: เลี้ยงโคพันธุ์พื้นเมือง | F19: ๓, ๖ | G19: 844000 | H19: 16 | I19: =โค!F13+ปัจจัยผลิตทางการเกษตร!G9 -> 844000
A20: 14 | B20: ฉวาง | C20: โครงการเลี้ยงโคพันธุ์เนื้อ (ชาโลเล่) ต.จันดี | D20: กลุ่มส่งเสริมการเลี้ยงโคพันธุ์เนื้อ/ต.จันดี อ.ฉวาง | E20: เลี้ยงโคพันธุ์เนื้อ (ชาโลเล่) จัดซื้อโคและสร้างโรงเรือน | F20: ๓, ๖ | G20: 330000 | H20: 18 | I20: =โค!F17+ปัจจัยผลิตทางการเกษตร!G14 -> 330000
A21: 15 | B21: ฉวาง | C21: โครงการเลี้ยงโคพันธุ์พื้นบ้าน ต.ไสหร้า | D21: กลุ่มอาชีพการเลี้ยงโคพันธุ์พื้นบ้าน/ต.ไสหร้า อ.ฉวาง | E21: เลี้ยงโคพันธุ์พื้นบ้าน จัดซื้อโคและสร้างโรงเรือน | F21: ๓, ๖ | G21: 500000 | H21: 30 | I21: =โค!F14+ปัจจัยผลิตทางการเกษตร!G13 -> 500000
A22: 16 | B22: เฉลิมพระเกียรติ | C22: ปรับปรุงระบบส่งน้ำเพื่อการเกษตร | D22: กลุ่มเกษตรกรผู้ปลูกพืชผัก/ต.ทางพูน อ.เฉลิมพระเกียรติ | E22: ขุดลอกคลอง/วัชพืช และดินโคลน ขุดลอกเหมืองไส้ไก่ จัดซื้อท่อสูบน้ำสแตนเลส | F22: 8 | G22: 1741500 | H22: 57 | I22: =โครงสร้างพื้นฐานการเกษตร!G8 -> 1741500
A23: 17 | B23: ชะอวด | C23: ส่งเสริมอาชีพรายได้แก่กลุ่มสวนยาง | D23: กลุ่มทำสวนยางพารา/ต.นางหลง อ.ชะอวด | E23: เลี้ยงไก่พื้นเมือง | F23: 3 | G23: 4704000 | H23: 2240 | I23: =ไก่พื้นเมือง!F13 -> 4704000
A24: 18 | B24: ชะอวด | C24: ส่งเสริมอาชีพรายได้แก่กลุ่มรับจ้าง | D24: กลุ่มรับจ้างทั่วไป/ ต.ชะอวด อ.ชะอวด | E24: เลี้ยงไก่พื้นเมือง | F24: 3 | G24: 1728300 | H24: 823 | I24: =ไก่พื้นเมือง!F14 -> 1728300
A25: 19 | B25: ชะอวด | C25: เลี้ยงเป็ดเนื้อ | D25: กลุ่มรับจ้าง/ต.เคร็ง อ.ชะอวด | E25: เลี้ยงเป็ดเนื้อ(เป็ดเทศ) เพื่อจำหน่าย | F25: 3 | G25: 3834000 | H25: 852 | I25: =เป็ดเนื้อ!F10 -> 3834000
A26: 20 | B26: ชะอวด | C26: เลี้ยงไก่พันธุ์พื้นเมือง | D26: กลุ่มทำสวนยางพารา/ ต.เคร็ง อ.ชะอวด | E26: เลี้ยงไก่พื้นเมืองในสวนยางพารา | F26: 3 | G26: 3397500 | H26: 755 | I26: =ไก่พื้นเมือง!F15 -> 3397500
A27: 21 | B27: ชะอวด | C27: เลี้ยงเป็ดไข่ในสวนปาล์ม (ปล่อยทุ่ง) | D27: กลุ่มสวนปาล์ม/ต.เคร็ง อ.ชะอวด | E27: ซื้อพันธุ์เป็ดไข่เลี้ยงในสวนปาล์ม/ซื้อพันธุ์เป็ด | F27: 3 | G27: 1966500 | H27: 437 | I27: =เป็ดไข่!F10 -> 1966500
A28: 22 | B28: ชะอวด | C28: เลี้ยงไก่ไข่ | D28: กลุ่มผู้ปลูกพืชผัก/ต.ขอนหาด อ.ชะอวด | E28: ส่งเสริมการเลี้ยงไก่ไข่/ซื้อพันธุ์ไก่ | F28: 3 | G28: 57600 | H28: 18 | I28: =ไก่ไข่!F10 -> 57600
A29: 23 | B29: ชะอวด | C29: เลี้ยงไก่ไข่ | D29: กลุ่มปลูกผลไม้/ ต.ขอนหาด อ.ชะอวด | E29: ส่งเสริมการเลี้ยงไก่ไข่/ซื้อพันธุ์ไก่ | F29: 3 | G29: 147200 | H29: 46 | I29: =ไก่ไข่!F11 -> 147200
A30: 24 | B30: ชะอวด | C30: เลี้ยงไก่ไข่ | D30: กลุ่มรับจ้าง/ ต.ขอนหาด อ.ชะอวด | E30: ส่งเสริมการเลี้ยงไก่ไข่/ซื้อพันธุ์ไก่ | F30: 3 | G30: 1158400 | H30: 362 | I30: =ไก่ไข่!F12 -> 1158400
A31: 25 | B31: ชะอวด | C31: เลี้ยงไก่ไข่ | D31: กลุ่มรับจ้าง/ ต.ขอนหาด อ.ชะอวด | E31: ส่งเสริมการเลี้ยงไก่ไข่/ซื้อพันธุ์ไก่ | F31: 3 | G31: 428800 | H31: 134 | I31: =ไก่ไข่!F13 -> 428800
A32: 26 | B32: ชะอวด | C32: เลี้ยงไก่ไข่ | D32: กลุ่มผู้ปลูกยางพารา/ต.ขอนหาด อ.ชะอวด | E32: ส่งเสริมการเลี้ยงไก่ไข่/ซื้อพันธุ์ไก่ | F32: 3 | G32: 1648000 | H32: 515 | I32: =ไก่ไข่!F14 -> 1648000
A33: 27 | B33: ชะอวด | C33: เลี้ยงไก่ไข่ | D33: กลุ่มผู้ปลูกปาล์มน้ำมัน/ ต.ขอนหาด อ.ชะอวด | E33: ส่งเสริมการเลี้ยงไก่ไข่/ซื้อพันธุ์ไก่ | F33: 3 | G33: 278400 | H33: 87 | I33: =ไก่ไข่!F15 -> 278400
A34: 28 | B34: ชะอวด | C34: ส่งเสริมเพิ่มรายได้แก่กลุ่มสวนยาง | D34: กลุ่มทำสวนยางพารา/ ต.ควนหนองหงส์ อ.ชะอวด | E34: ส่งเสริมการเลี้ยงไก่พื้นเมือง | F34: 3 | G34: 5149200 | H34: 2452 | I34: =ไก่พื้นเมือง!F16 -> 5149200
A35: 29 | B35: ชะอวด | C35: เลี้ยงไก่ไข่ | D35: กลุ่มสวนยางพารา/ ต.ท่าประจะ อ.ชะอวด | E35: ส่งเสริมการเลี้ยงไก่ไข่/ซื้อพันธุ์ไก่ | F35: 3 | G35: 1222400 | H35: 382 | I35: =ไก่ไข่!F16 -> 1222400
A36: 30 | B36: ชะอวด | C36: เลี้ยงไก่ไข่ | D36: กลุ่มปาล์มน้ำมัน/ต.ท่าประจะ อ.ชะอวด | E36: ส่งเสริมการเลี้ยงไก่ไข่/ซื้อพันธุ์ไก่ | F36: 3 | G36: 278400 | H36: 87 | I36: =ไก่ไข่!F17 -> 278400
A37: 31 | B37: ชะอวด | C37: เลี้ยงไก่ไข่ | D37: กลุ่มผลไม้/ ต.เขาพระทอง อ.ชะอวด | E37: ส่งเสริมการเลี้ยงไก่ไข่/ซื้อพันธุ์ไก่ | F37: 3 | G37: 947200 | H37: 296 | I37: =ไก่ไข่!F18 -> 947200
A38: 32 | B38: ชะอวด | C38: เลี้ยงไก่ไข่ | D38: กลุ่มปาล์มน้ำมัน/ต.เขาพระทอง อ.ชะอวด | E38: ส่งเสริมการเลี้ยงไก่ไข่/ซื้อพันธุ์ไก่ | F38: 3 | G38: 371200 | H38: 116 | I38: =ไก่ไข่!F19 -> 371200
A39: 33 | B39: ชะอวด | C39: เลี้ยงไก่ไข่ | D39: กลุ่มรับจ้างทั่วไป/ต.เขาพระทอง อ.ชะอวด | E39: ส่งเสริมการเลี้ยงไก่ไข่/ซื้อพันธุ์ไก่ | F39: 3 | G39: 1404800 | H39: 439 | I39: =ไก่ไข่!F20 -> 1404800
A40: 34 | B40: ชะอวด | C40: เลี้ยงไก่ไข่ | D40: กลุ่มยางพารา/ต.เขาพระทอง อ.ชะอวด | E40: ส่งเสริมการเลี้ยงไก่ไข่/ซื้อพันธุ์ไก่ | F40: 3 | G40: 3324800 | H40: 1039 | I40: =ไก่ไข่!F21 -> 3324800
A41: 35 | B41: ชะอวด | C41: เลี้ยงไก่ไข่ | D41: กลุ่มนาข้าว/ต.เขาพระทอง อ.ชะอวด | E41: ส่งเสริมการเลี้ยงไก่ไข่/ซื้อพันธุ์ไก่ | F41: 3 | G41: 345600 | H41: 108 | I41: =ไก่ไข่!F22 -> 345600
A42: 36 | B42: ชะอวด | C42: เลี้ยงไก่ไข่ | D42: กลุ่มทำสวนยางพารา/ต.วังอ่าง อ.ชะอวด | E42: ส่งเสริมการเลี้ยงไก่ไข่/ซื้อพันธุ์ไก่ | F42: 3 | G42: 9979200 | H42: 2079 | I42: =ไก่ไข่!F23 -> 9979200
...

Sheet พัฒนาอาชีพ.OTOP
A1: แบบสรุปโครงการมาตรการ
A2: เร่งด่วนแก้ปัญหาด้านการผลิตและรายได้ เพื่อเสริมสร้างความเข้มแข็ง
A4: จังหวัดนครศรีธรรมราช
C5: กิจกรรมด้านการพัฒนาอาชีพ/OTOP (รหัส ๑) ส่งเสริมการประกอบอาชีพ, สนับสนุนการแปรรูปผลิตภัณฑ์การเกษตร,สนับสนุนการทำบรรจุภัณฑ์,อบรม
A7: ลำดับ | B7: อำเภอ | C7: โครงการ | D7: กลุ่มที่รองรับ/ที่ตั้ง | E7: กิจกรรม | F7: รหัส | G7: งบประมาณ | H7: ประชาชนได้รับประโยชน์ จำนวน (ครัวเรือน)
A8: 1 | B8: จุฬาภรณ์ | C8: โครงการจัดแสดงและจำหน่ายสินค้า OTOP | D8: คณะกรรมการเครือข่ายOTOP/อ.จุฬาภรณ์ | E8: ซื้อตู้โชว์สินค้าและบอร์ดประชาสัมพันธ์ | F8: 1 | G8: 17000 | H8: 20
A9: 2 | B9: จุฬาภรณ์ | C9: โครงการส่งเสริมและพัฒนาอาชีพบดเครื่องแกง | D9: กลุ่มเครื่องแกงสามตำบล/อ.จุฬาภรณ์ | E9: จัดซื้อวัสดุอุปกรณ์ในการจัดทำเครื่องแกงจำหน่าย (โต๊ะ ๒ ตัวๆละ ๒,๕๐๐ บาท, เก้าอี้พลาสติก จำนวน ๑๕ ตัวๆละ๒๕๐ บาท,เครื่องอบเครื่องแกงให้แห้ง ๑๔,๐๐๐ บาท เครื่องซีนถุง ๒,๕๐๐ บาท) | F9: 1 | G9: 25250 | H9: 95
A10: 3 | B10: จุฬาภรณ์ | C10: โครงการช่วยเหลือกลุ่มเกษตรชาวสวนมังคุด | D10: กลุ่มวิสาหกิจชุมชนศูนย์รวบรวมและพัฒนาผลผลิตมังคุดเพื่อการส่งออก/ม.๕ ต.ทุ่งโพธิ์ อ.จุฬาภรณ์ | E10: จัดซื้อตะกร้าใส่ผลไม้ขนาดบรรจุ ๒๕ กก. ปุ๋ยเคมี และเครื่องพ่นยาปราบศัตรูพืชแบบตั้งพื้นระบบเครื่องยนต์ CWP PPS๒๖ES ใช้น้ำมันเบนซิน ๓ เครื่อง | F10: 1 | G10: 909210 | H10: 175
A11: 4 | B11: ฉวาง | C11: โครงการเลี้ยงโคพื้นเมือง ต.นาเขลียง | D11: กลุ่มเลี้ยงโคพันธุ์พื้นเมือง/ต.นาเขลียง อ.ฉวาง | E11: อบรม(อาหารว่าง/เครื่องดื่ม,จัดสถานที่) | F11: 1 | G11: 6000 | H11: 20
A12: 5 | B12: ทุ่งสง | C12: กลุ่มจักสานพลาสติก | D12: ม.๒ ต.ที่วัง ม.๕ ต.นาหลวงเสน ม.๘ ต.ชะมาย ม.๔ต.นาโพธิ์ ม.๒ ต.หนองหงส์ อ.ทุ่งสง | E12: จัดซื้ออุปกรณ์ผลิตเครื่องจักสานพลาสติก | F12: 1 | G12: 560000 | H12: 149
A13: 6 | B13: ทุ่งสง | C13: กลุ่มทำไม้กวาดดอกหญ้า | D13: กลุ่มอาชีพทำไม้กวาดดอกหญ้า,กลุ่มเพาะเห็ด/ต.น้ำตก ม.๕ ต.ควนกรด อ.ทุ่งสง | E13: จัดซื้อวัสดุอุปกรณ์ในการทำไม้กวาดดอกหญ้าและทุนสำรองกลุ่ม | F13: 1 | G13: 80000 | H13: 40
A14: 7 | B14: ทุ่งสง | C14: กลุ่มปลูกข้าวไร่ปลอดสารพิษไสกรูด | D14: กลุ่มอาชีพข้าวไร่ปลอดสารพิษ/ม.๘ ต.นาไม้ไผ่ อ.ทุ่งสง | E14: จัดซื้อเครื่องซีนศูนย์ยากาศ ๕๐,๐๐๐ บาทและถุงชนิดหนาใส่ข้าวสาร ๑๐,๐๐๐ บาท | F14: 1 | G14: 60000 | H14: 115
A15: 8 | B15: ทุ่งสง | C15: กลุ่มประคบและอบสมุนไพร | D15: กลุ่มอาชีพนวดแผนไทย/ต.ถ้ำใหญ่ อ.ทุ่งสง | E15: ฝึกอบรมและซื้อวัสดุอุปกรณ์สำหรับการนวด | F15: 1 | G15: 85100 | H15: 300
A16: 9 | B16: ทุ่งสง | C16: กลุ่มผลิตเครื่องแกง | D16: กลุ่มอาชีพผลิตเครื่องแกง/ม.๒, ๙ และ ๑๐ ต.หนองหงส์ อ.ทุ่งสง | E16: จัดซื้อวัสดุอุปกรณ์การทำเครื่องแกง | F16: 1 | G16: 106000 | H16: 50
A17: 10 | B17: ทุ่งสง | C17: กลุ่มเลี้ยงปลาดุกในบ่อพลาสติก | D17: กลุ่มเกษตรกรอาชีพทำสวน/ต.เขาขาว ต.น้ำตก อ.ทุ่งสง | E17: อบรมถ่ายทอดความรู้การเลี้ยงปลาดุกในบ่อพลาสติก ๑ วัน | F17: 1 | G17: 60000 | H17: 50
A18: 11 | B18: ทุ่งใหญ่ | C18: วิสาหกิจชุมชนปลูกข้าวไร่เพื่อบริโภค สู่การแปรรูปการผลิตข้าวซ้อมมือเพื่อสุขภาพ | D18: กลุ่มประชาชน ม.๖ ต.ท่ายาง อ.ทุ่งใหญ่ | E18: อบรมเพิ่มความรู้และศึกษาดูงาน | F18: 1 | G18: 20000 | H18: 20
A19: 12 | B19: พิปูน | C19: ส่งเสริมสนับสนุนกลุ่มอาชีพ (OTOP) การทำไข่เค็มสมุนไพร | D19: กลุ่มอาชีพไข่เค็มสมุนไพร/บ้านใหม่ ม.๕ ต.พิปูน อ.พิปูน | E19: ๑. ส่งเสริมการทำไข่เค็ม (อบรม ๑๐,๐๐๐ บาท) ๒.สนับสนุนกลุ่มฯ (ค่าวัสดุ ๕๐,๐๐๐ บาท) | F19: 1 | G19: 60000 | H19: 23
... A47: 40 | B47: หัวไทร | C47: เลี้ยงไก่พันธุ์พื้นเมืองหรือลูกผสม ตำบลเกาะเพชร | D47: กลุ่มเลี้ยงไก่พันธุ์พื้นเมืองหรือลูกผสม/ต.เกาะเพชร อ.หัวไทร | E47: ฝึกอบรมการดูแลสุขาภิบาลและป้องกันโรคในการเลี้ยงไก่ เหมาจ่ายคนละ ๑๐๐ บาท จำนวน ๑ วัน | F47: 1 | G47: 18000 | H47: 180
F48: รวม | G48: =SUM(G8:G47) -> 3531610 | H48: =SUM(H8:H47) -> 6549

Sheet ด้านการผลิตพืช
A1: แบบสรุปโครงการมาตรการ
A2: เร่งด่วนแก้ปัญหาด้านการผลิตและรายได้ เพื่อเสริมสร้างความเข้มแข็ง
A4: จังหวัดนครศรีธรรมราช
C5: กิจกรรมด้านการผลิตพืช (รหัส ๒)
A7: ลำดับ | B7: อำเภอ | C7: โครงการ | D7: กลุ่มที่รองรับ/ที่ตั้ง | E7: กิจกรรม | F7: รหัส | G7: งบประมาณ | H7: ประชาชนได้รับประโยชน์ จำนวน (ครัวเรือน)
A8: 1 | B8: จุฬาภรณ์ | C8: โครงการกลุ่มเกษตรอินทรีย์ศรีจุฬา เกษตรทฤษฎีใหม่แบบผสมผสาน | D8: กลุ่มเกษตรอินทรีย์ศรีจุฬา/ ต.นาหมอบุญ อ.จุฬาภรณ์ | E8: จัดซื้อเมล็ดพันธุ์พืช | F8: 2 | G8: 5000 | H8: 10
A9: 2 | B9: จุฬาภรณ์ | C9: โครงการจัดสร้างแปลงพันธุ์มะนาวแป้นและจัดซื้ออุปกรณ์ในการเพาะพันธุ์ของกลุ่มอาชีพ เพาะพันธุ์มะนาวแป้นเพื่อจำหน่าย ต.ควนมุด | D9: กลุ่มอาชีพเพาะพันธุ์มะนาวแป้นเพื่อจำหน่าย/ต.บ้านควนมุด อ.จุฬาภรณ์ | E9: สร้างแปลงพันธุ์มะนาวแป้นและจัดซื้ออุปกรณ์ในการเพาะพันธุ์ของกลุ่มอาชีพ (ค่าจ้างแรงงานเหมาตลอดการจัดสร้าง ๓๐,๐๐๐ บาท ค่าอุปกรณ์ก่อสร้าง ๗๐,๐๐๐ บาท พันธุ์มะนาว ๕๐,๐๐๐ บาท) | F9: 2 | G9: 150000 | H9: 50
A10: 3 | B10: ช้างกลาง | C10: ปลูกกล้วยหอมทอง และมะละกอพันธุ์ฮอลแลนด์ | D10: กลุ่มเกษตกร/ อ.ช้างกลาง | E10: ปลูกกล้วยหอมทอง (ครัวเรือนละ ๒๐ ต้นๆละ ๒๐ บาท เป็นเงิน ๔๘๐,๐๐๐ บาท) ซื้อมะละกอพันธุ์ฮอลแลนด์ (๔๘๐,๐๐๐ บาท) | F10: 2 | G10: 960000 | H10: 1200
A11: 4 | B11: ช้างกลาง | C11: ปลูกกล้วยหอมทอง และมะละกอพันธุ์ฮอลแลนด์ | D11: กลุ่มเกษตกร/ อ.ช้างกลาง | E11: ปลูกกล้วยหอมทอง (ครัวเรือนละ ๒๐ ต้นๆละ ๒๐ บาท เป็นเงิน ๔๘๐,๐๐๐ บาท) ซื้อมะละกอพันธุ์ฮอลแลนด์ (๔๘๐,๐๐๐ บาท) | F11: 2 | G11: 960000 | H11: 1200
A12: 5 | B12: เชียรใหญ่ | C12: ส่งเสริมรายได้ในฤดูแล้ง | D12: กลุ่มเกษตรกรผู้ปลูกข้าว/ต.เชียรใหญ่ อ.เชียรใหญ่ | E12: ปลูกถั่วเขียวชีวภาพ (๑๒,๐๐๐ บาท), เพาะเห็ดนางฟ้า (๗,๕๐๐ บาท),ปุ๋ย (๓,๖๐๐ บาท) ปรับพื้นที่ (๒๔,๐๐๐ บาท) | F12: 2 | G12: 47100 | H12: 258
A13: 6 | B13: เชียรใหญ่ | C13: ส่งเสริมรายได้ในฤดูแล้ง | D13: กลุ่มเกษตรกรผู้ปลูกข้าว/ต.เขาพระบาท อ.เชียรใหญ่ | E13: ปลูกถั่วเขียวชีวภาพ (๔๖๗,๔๐๐ บาท), เพาะเห็ดนางฟ้า (๓๐,๐๐๐) ซื้อปุ๋ย และปรับพื้นที่ | F13: 2 | G13: 1597800 | H13: 332
A14: 7 | B14: เชียรใหญ่ | C14: ส่งเสริมรายได้ในฤดูแล้ง | D14: กลุ่มเกษตรกรผู้ปลูกข้าว/ต.แม่เจ้าอยู่หัว อ.เชียรใหญ่ | E14: ปลูกถั่วเขียวชีวภาพ, เพาะเห็ดนางฟ้า ซื้อปุ๋ยและปรับพื้นที่ | F14: 2 | G14: 79800 | H14: 163
A15: 8 | B15: เชียรใหญ่ | C15: ส่งเสริมรายได้ให้แก่เกษตรกรในฤดูแล้ง | D15: กลุ่มเกษตรกรผู้ปลูกข้าว/ต.การะเกด อ.เชียรใหญ่ | E15: ปลูกถั่วเขียวชีวภาพ, เพาะเห็ดนางฟ้า ซื้อปุ๋ยและปรับพื้นที่ | F15: 2 | G15: 428700 | H15: 350
A16: 9 | B16: เชียรใหญ่ | C16: ส่งเสริมรายได้ในฤดูแล้ง | D16: กลุ่มเกษตรกรผู้ปลูกข้าว/ต.ท่าขนาน อ.เชียรใหญ่ | E16: ปลูกถั่วเขียวชีวภาพ, เพาะเห็ดนางฟ้า ซื้อปุ๋ยและปรับพื้นที่ | F16: 2 | G16: 315900 | H16: 304
A17: 10 | B17: เชียรใหญ่ | C17: ส่งเสริมรายได้ให้แก่เกษตรกรในฤดูแล้ง | D17: กลุ่มเกษตรกรผู้ปลูกข้าว/ต.บ้านกลาง อ.เชียรใหญ่ | E17: ปลูกถั่วเขียวชีวภาพ, เพาะเห็ดนางฟ้า ซื้อปุ๋ยและปรับพื้นที่ | F17: 2 | G17: 107700 | H17: 76
A18: 11 | B18: เชียรใหญ่ | C18: ส่งเสริมรายได้ให้แก่เกษตรกรในฤดูแล้ง | D18: กลุ่มเกษตรกรผู้ปลูกข้าว/ต.เสือหึง อ.เชียรใหญ่ | E18: ปลูกถั่วเขียวชีวภาพ, เพาะเห็ดนางฟ้า ซื้อปุ๋ยและปรับพื้นที่ | F18: 2 | G18: 217200 | H18: 290
A19: 12 | B19: เชียรใหญ่ | C19: ส่งเสริมรายได้ให้แก่เกษตรกรในฤดูแล้ง | D19: กลุ่มเกษตรกรผู้ปลูกข้าว/ต.ไสหมาก อ.เชียรใหญ่ | E19: ปลูกถั่วเขียวชีวภาพ, เพาะเห็ดนางฟ้า ซื้อปุ๋ยและปรับพื้นที่ | F19: 2 | G19: 214800 | H19: 488
... A53: 46 | B53: ลานสกา | C53: โครงการส่งเสริมกลุ่มเกษตรกรเพาะเห็ดนางฟ้ามืออาชีพ ตำบลขุนทะเล | D53: กลุ่มอาชีพเพาะเห็ดนางฟ้า/ต.ขุนทะเล อ.ลานสกา | E53: ซื้อเครื่องอัดก้อนเห็ดแบบ ๘ หัว จำนวน ๑ เครื่อง เครื่องผสม ขนาด ๓๐๐ กก. จำนวน ๑ เครื่อง เตานึ่งก้อนเชื้อเห็ดขนาด ๒,๐๐๐ ก้อน จำนวน ๑ เครื่อง อุปกรณ์ผลิตก้อนเห็ด และวัสดุผลิตก้อนเห็ด | F53: 2 | G53: 550000 | H53: 235
F54: รวม | G54: =SUM(G8:G53) -> 20177020 | H54: =SUM(H8:H53) -> 9054

Sheet สุกร
A1: แบบสรุปโครงการมาตรการ
A2: เร่งด่วนแก้ปัญหาด้านการผลิตและรายได้ เพื่อเสริมสร้างความเข้มแข็ง
A4: จังหวัดนครศรีธรรมราช
C5: กิจกรรมด้านปศุสัตว์ (รหัส ๓) เลี้ยงสุกร
A7: ลำดับ | B7: อำเภอ | C7: โครงการ | D7: กลุ่มที่รองรับ/ที่ตั้ง | E7: กิจกรรม | F7: งบประมาณ | G7: รายการจัดซื้อตามงบประมาณที่เสนอขอ
G8: แม่พันธุ์สุกร | J8: อาหาร | K8: ยา/เวชภัณฑ์
G9: งบประมาณ | H9: จำนวน(ตัว) | I9: ราคาตัวละ
A10: 1 | B10: เมือง นศ. | C10: โครงการส่งเสริมกลุ่มอาชีพเกษตรกรผู้เลี้ยงสุกร ต.ท่าเรือ | D10: กลุ่มเกษตรกรผู้เลี้ยงสุกร/ต.ท่าเรือ อ.เมือง นศ. | E10: จัดซื้อแม่พันธุ์สุกร ๗๕ ตัวๆ ละ ๑๐,๐๐๐ บาท, อาหาร ๖๐๐ กระสอบๆละ ๓๕๐ บาท, และยาเวชภัณฑ์อุปกรณ์ ๗๕ ตัวๆละ ๕๐๐ บาท | F10: =G10+J10+K10 -> 997500 | G10: 750000 | H10: 75 | I10: 10000 | J10: 210000 | K10: 37500
A11: 2 | B11: สิชล | C11: โครงการเลี้ยงสุกรแม่พันธุ์ ต.เทพราช | D11: กลุ่มเกษตรกรเลี้ยงสุกรแม่พันธุ์/ต.เทพราช อ.สิชล | E11: ซื้อสุกรแม่พันธุ์ ๒๐ ตัว ๆ ละ ๙,๐๐๐ บาทซื้อยาวัคซีนและอื่นๆ | F11: =G11+J11+K11 -> 200000 | G11: 180000 | H11: 20 | I11: 9000 | K11: 20000
E12: รวม | F12: =SUM(F10:F11) -> 1197500 | G12: =SUM(G10:G11) -> 930000 | H12: =SUM(H10:H11) -> 95 | J12: =SUM(J10:J11) -> 210000 | K12: =SUM(K10:K11) -> 57500

Sheet โค
A1: แบบสรุปโครงการมาตรการ
A2: เร่งด่วนแก้ปัญหาด้านการผลิตและรายได้ เพื่อเสริมสร้างความเข้มแข็ง
A4: จังหวัดนครศรีธรรมราช
C5: กิจกรรมด้านปศุสัตว์ (รหัส ๓) เลี้ยงโค
A7: ลำดับ | B7: อำเภอ | C7: โครงการ | D7: กลุ่มที่รองรับ/ที่ตั้ง | E7: กิจกรรม | F7: งบประมาณ | G7: รายการจัดซื้อตามงบประมาณที่เสนอขอ
G8: พันธุ์โค | M8: อาหาร | N8: ยา/เวชภัณฑ์/อื่นๆ
G9: โคเนื้อ(ชาโลเล่) | J9: โคพื้นเมือง
G10: จำนวนเงิน | H10: จำนวนโค | I10: ราคา/ตัว | J10: จำนวนเงิน | K10: จำนวนโค | L10: ราคาตัวละ
A11: 1 | B11: ฉวาง | C11: โครงการเลี้ยงโคพันธุ์พื้นเมืองบ้านหนองท่อม ต.ไม้เรียง | D11: กลุ่มเลี้ยงโคพันธุ์พื้นเมือง/ต.ไม้เรียง อ.ฉวาง | E11: เลี้ยงโคพันธุ์พื้นเมือง ๑๕ ตัว, ซื้ออาหาร/ยา | F11: =J11+M11+N11 -> 255000 | J11: 225000 | K11: 15 | L11: 15000 | M11: 25000 | N11: 5000
A12: 2 | B12: ฉวาง | C12: โครงการเลี้ยงโคพื้นเมือง ต.นาเขลียง | D12: กลุ่มเลี้ยงโคพันธุ์พื้นเมือง/ต.นาเขลียง อ.ฉวาง | E12: เลี้ยงโคพันธุ์พื้นเมือง ๔๐ ตัวอายุ ๑-๒ ปี, ซื้อเมล็ดพันธุ์หญ้า,จัดซื้ออาหารโคในช่วงฤดูแล้ง | F12: =J12+M12+N12 -> 700000 | J12: 600000 | K12: 40 | L12: 15000 | M12: 100000
A13: 3 | B13: ฉวาง | C13: โครงการเลี้ยงโคพันธุ์พื้นเมือง ต.ละอาย | D13: กลุ่มอาชีพการเลี้ยงโคพันธุ์พื้นเมือง/ต.ละอาย อ.ฉวาง | E13: เลี้ยงโคพันธุ์พื้นเมือง ซื้อโคพื้นเมือง ๕๐ ตัวๆละ ๑๕,๐๐๐ บาท เป็นเงิน ๗๕๐,๐๐๐ บาท ค่าแรงคนงาน ๔๐,๐๐๐ บาท | F13: =J13+M13+N13 -> 790000 | J13: 750000 | K13: 50 | L13: 15000 | N13: 40000
A14: 4 | B14: ฉวาง | C14: โครงการเลี้ยงโคพันธุ์พื้นบ้าน ต.ไสหร้า | D14: กลุ่มอาชีพการเลี้ยงโคพันธุ์พื้นบ้าน/ต.ไสหร้า อ.ฉวาง | E14: เลี้ยงโคพันธุ์พื้นบ้าน ซื้อพ่อพันธุ์วัว ๑๔ ตัว | F14: =J14+M14+N14 -> 350000 | J14: 350000 | K14: 14 | L14: 25000
A15: 5 | B15: ฉวาง | C15: โครงการเลี้ยงโคพันธุ์เนื้อ (ชาโลเล่) ตำบลฉวาง | D15: กลุ่มส่งเสริมการเลี้ยงโคพันธุ์เนื้อ/ต.ฉวาง อ.ฉวาง | E15: เลี้ยงโคพันธุ์เนื้อ(ชาโลเล่) ๘ ตัวอายุ ๓-๔ ปี ปรับปรุงพื้นที่, ค่ายา/ค่าไฟฟ้า,ค่าวัสดุแปลงหญ้า | F15: 271000 | G15: 240000 | H15: 8 | I15: 30000 | N15: 31000
A16: 6 | B16: ฉวาง | C16: โครงการเลี้ยงโคพันธุ์เนื้อ (ชาโลเล่) ต.นาแว | D16: กลุ่มส่งเสริมการเลี้ยงโคพันธุ์เนื้อ/ต.นาแว อ.ฉวาง | E16: เลี้ยงโคพันธุ์เนื้อ (ชาโลเล่) ๑๖ ตัวอายุ๓-๔ปี ปรับปรุงพื้นที่/ค่ายา/ค่าไฟฟ้า/ค่าวัสดุแปลงหญ้า | F16: 528000 | G16: 500000 | H16: 16 | I16: 30000 | N16: 28000
A17: 7 | B17: ฉวาง | C17: โครงการเลี้ยงโคพันธุ์เนื้อ (ชาโลเล่) ต.จันดี | D17: กลุ่มส่งเสริมการเลี้ยงโคพันธุ์เนื้อ/ต.จันดี อ.ฉวาง | E17: เลี้ยงโคพันธุ์เนื้อ (ชาโลเล่) ๘ ตัว, ค่าวัสดุแปลงหญ้า ปรับปรุงพื้นที่ | F17: 260000 | G17: 240000 | H17: 8 | I17: 30000 | N17: 20000
A18: 8 | B18: สิชล | C18: โครงการเลี้ยงโคปันลูกขุน ต.เสาเภา | D18: กลุ่มเกษตรกรผู้เลี้ยงโค/ม.๑๑ ต.เสาเภา อ.สิชล | E18: จัดซื้อพันธุ์แม่โค จำนวน ๕ ตัว ๆละ ๓๐,๐๐๐ บาท และยาวัคซีน อาหาร,แคลเซียม | F18: =J18+M18+N18 -> 200000 | J18: 150000 | K18: 5 | L18: 30000 | M18: 50000
A19: 9 | B19: สิชล | C19: โครงการเลี้ยงโคปันลูกขุน ต.เทพราช | D19: กลุ่มเกษตรกรผู้เลี้ยงโค/ ต.เทพราช อ.สิชล | E19: ซื้อแม่โค ๕ ตัวๆ ละ ๔๐,๐๐๐ บาท อาหารยา และแคลเซียม | F19: =J19+M19+N19 -> 250000 | J19: 200000 | K19: 5 | L19: 40000 | M19: 50000
E20: รวม | F20: =SUM(F11:F19) -> 3604000 | G20: =SUM(G11:G19) -> 980000 | H20: =SUM(H11:H19) -> 32 | J20: =SUM(J11:J19) -> 2275000 | K20: =SUM(K11:K19) -> 129 | M20: =SUM(M11:M19) -> 225000 | N20: =SUM(N11:N19) -> 124000

Sheet แพะ
A1: แบบสรุปโครงการมาตรการ
A2: เร่งด่วนแก้ปัญหาด้านการผลิตและรายได้ เพื่อเสริมสร้างความเข้มแข็ง
A4: จังหวัดนครศรีธรรมราช
C5: กิจกรรมด้านปศุสัตว์ (รหัส ๓) เลี้ยงแพะ
A7: ลำดับ | B7: อำเภอ | C7: โครงการ | D7: กลุ่มที่รองรับ/ที่ตั้ง | E7: กิจกรรม | F7: งบประมาณ | G7: รายการจัดซื้อตามงบประมาณที่เสนอขอ
G8: พันธุ์แพะ | J8: อาหาร | K8: ยา/เวชภัณฑ์ | L8: อุปกรณ์ผลิตอาหาร | M8: อุปกรณ์โรงเรือน
G9: แม่พันธุ์ | H9: พ่อพันธุ์ | I9: แพะขุน
A10: 1 | B10: ร่อนพิบูลย์ | C10: โครงการส่งเสริมอาชีพเกษตรกรเพื่อเพิ่มรายได้ในช่วงภัยแล้ง | D10: กลุ่มเลี้ยงแพะ/ต.ควนพัง อ.ร่อนพิบูลย์ | E10: ซื้อแพะเพศเมีย ๒๕๐ ตัวๆละ ๔,๘๐๐ บาท และกองทุนเวชภัณฑ์ ๒๐,๐๐๐ บาท | F10: 1220000 | G10: 1200000 | J10: 0 | K10: 20000 | L10: 0 | M10: 0
A11: 2 | B11: สิชล | C11: โครงการเลี้ยงแพะ ต.เขาน้อย | D11: กลุ่มวิสาหกิจชุมชนเกษตรกรเลี้ยงแพะ/ต.เขาน้อย อ.สิชล | E11: ซื้อพ่อพันธุ์แพะ ๓ ตัวและแม่พันธุ์แพะ ๒ ตัว อุปกรณ์ประกอบโรงเรือน และอุปกรณ์ผลิตอาหาร | F11: =G11+H11+L11+M11 -> 384000 | G11: 200000 | H11: 60000 | J11: 0 | K11: 0 | L11: 74000 | M11: 50000
A12: 3 | B12: สิชล | C12: โครงการเลี้ยงแพะเนื้อขุนมาตรฐาน ต.เสาเภา | D12: กลุ่มเกษตรกรเลี้ยงแพะเนื้อขุน/ต.เสาเภา อ.สิชล | E12: จัดซื้อพันธุ์แพะขุนอายุ ๓ เดือน ซื้อยาและวัคซีน อาหารข้น-หยาบ | F12: 137000 | I12: 120000 | J12: 15000 | K12: 2000 | L12: 0 | M12: 0
F13: =SUM(F10:F12) -> 1741000 | G13: =SUM(G10:G12) -> 1400000 | H13: =SUM(H10:H12) -> 60000 | I13: =SUM(I10:I12) -> 120000 | J13: =SUM(J10:J12) -> 15000 | K13: =SUM(K10:K12) -> 22000 | L13: =SUM(L10:L12) -> 74000 | M13: =SUM(M10:M12) -> 50000

Sheet เป็ดเนื้อ
A1: แบบสรุปโครงการมาตรการ
A2: เร่งด่วนแก้ปัญหาด้านการผลิตและรายได้ เพื่อเสริมสร้างความเข้มแข็ง
A4: จังหวัดนครศรีธรรมราช
C5: กิจกรรมด้านปศุสัตว์ (รหัส ๓) เลี้ยงเป็ดเนื้อ
A6: ลำดับ | B6: อำเภอ | C6: โครงการ | D6: กลุ่มที่รองรับ/ที่ตั้ง | E6: กิจกรรม | F6: งบประมาณ | G6: รายการจัดซื้อตามงบประมาณที่เสนอขอ
G7: พันธุ์เป็ด | L7: อาหาร | M7: อุปกรณ์
G8: เป็ดเทศ | J8: เป็ดเนื้อ
G9: อายุ ๓ เดือน | H9: อายุ ๔ เดือน | I9: ราคาตัวละ | J9: ลูกเป็ด | K9: ราคาตัวละ
A10: 1 | B10: ชะอวด | C10: เลี้ยงเป็ดเนื้อ | D10: กลุ่มรับจ้าง/ต.เคร็ง อ.ชะอวด | E10: เลี้ยงเป็ดเทศ ซื้อเป็ดเทศอายุ ๓ เดือน ๒๕,๕๖๐ ตัว | F10: 3834000 | G10: 3834000 | I10: 150 | L10: -
A11: 2 | B11: ชะอวด | C11: เลี้ยงเป็ดเนื้อ (เป็ดเทศ) | D11: กลุ่มรับจ้าง/ ต.เกาะขันธ์ อ.ชะอวด | E11: เลี้ยงเป็ดเทศ ซื้อเป็ดเทศอายุ ๔ เดือน ๙,๐๐๐ ตัว | F11: 1350000 | H11: 1350000 | I11: 150 | L11: -
A12: 3 | B12: ท่าศาลา | C12: เลี้ยงเป็ดเนื้อในสวนปาล์มน้ำมัน | D12: กลุ่มเกษตรกรพัฒนา/ต.กลาย อ.ท่าศาลา | E12: เลี้ยงเป็ดเนื้อ (บารลี) ๑,๐๐๐ ตัว | F12: 220000 | J12: 55000 | K12: 55 | L12: 165000
A13: 4 | B13: ท่าศาลา | C13: เลี้ยงเป็ดเนื้อ (บารลี) ในสวนปาล์มน้ำมัน | D13: กลุ่มผสมผสาน/ ม.๗ ต.สระแก้ว อ.ท่าศาลา | E13: เลี้ยงเป็ดเนื้อ (บารลี) ๓,๐๐๐ ตัว อาหาร และเครื่องบดหยวก | F13: 162000 | J13: 90000 | K13: 30 | L13: 60000 | M13: 12000
A14: 5 | B14: ท่าศาลา | C14: เลี้ยงเป็ดในสวนยางพารา | D14: ศูนย์ข้าวชุมชน/ต.ท่าขึ้น อ.ท่าศาลา | E14: เลี้ยงเป็ดเนื้อ (บารลี) ๑๙๒๐ ตัว | F14: 230400 | J14: 57600 | K14: 30 | L14: 172800
E15: รวม | F15: =SUM(F10:F14) -> 5796400 | G15: =SUM(G10:G14) -> 3834000 | H15: =SUM(H10:H14) -> 1350000 | J15: =SUM(J12:J14) -> 202600 | L15: =SUM(L12:L14) -> 397800 | M15: =SUM(M12:M14) -> 12000
D17: =165000/600 -> 275

Sheet เป็ดไข่
A1: แบบสรุปโครงการมาตรการ
A2: เร่งด่วนแก้ปัญหาด้านการผลิตและรายได้ เพื่อเสริมสร้างความเข้มแข็ง
A4: จังหวัดนครศรีธรรมราช
C5: กิจกรรมด้านปศุสัตว์ (รหัส ๓) เลี้ยงเป็ดไข่
A7: ลำดับ | B7: อำเภอ | C7: โครงการ | D7: กลุ่มที่รองรับ/ที่ตั้ง | E7: กิจกรรม | F7: งบประมาณ | G7: รายการจัดซื้อตามงบประมาณที่เสนอขอ
G8: พันธุ์เป็ดไข่ | J8: อาหาร
G9: เป็ดรุ่น | H9: ลูกเป็ด | I9: ราคาตัวละ
A10: 1 | B10: ชะอวด | C10: เลี้ยงเป็ดไข่ในสวนปาล์ม (ปล่อยทุ่ง) | D10: กลุ่มสวนปาล์ม/ต.เคร็ง อ.ชะอวด | E10: ซื้อพันธุ์เป็ดไข่ ตัวๆละ ๑๕๐ บาท อาหาร กระสอบละ ๔๕๐ บาท | F10: 1966500 | G10: 1966500 | I10: 150
A11: 2 | B11: เชียรใหญ่ | C11: ส่งเสริมรายได้ในฤดูแล้ง | D11: กลุ่มเกษตรกรผู้ปลูกข้าว/ต.เชียรใหญ่ อ.เชียรใหญ่ | E11: ซื้อพันธุ์เป็ดไข่ตัวละ ๑๔๐ บาท อาหารเป็ดกระสอบละ ๔๕๐ | F11: 339700 | G11: 301000 | I11: 140 | J11: 38700
A12: 3 | B12: เชียรใหญ่ | C12: ส่งเสริมรายได้ในฤดูแล้ง | D12: กลุ่มเกษตรกรผู้ปลูกข้าว/ต.เขาพระบาท อ.เชียรใหญ่ | E12: ซื้อพันธุ์เป็ดไข่ตัวละ ๑๔๐ บาท อาหารเป็ดกระสอบละ ๔๕๐ | F12: 47400 | G12: 42000 | I12: 140 | J12: 5400
A13: 4 | B13: เชียรใหญ่ | C13: ส่งเสริมรายได้ในฤดูแล้ง | D13: กลุ่มเกษตรกรผู้ปลูกข้าว/ต.แม่เจ้าอยู่หัว อ.เชียรใหญ่ | E13: ซื้อพันธุ์เป็ดไข่ตัวละ ๑๔๐ บาท อาหารเป็ดกระสอบละ ๔๕๐ | F13: 86900 | G13: 77000 | I13: 140 | J13: 9900
A14: 5 | B14: เชียรใหญ่ | C14: ส่งเสริมรายได้ให้แก่เกษตรกรในฤดูแล้ง | D14: กลุ่มเกษตรกรผู้ปลูกข้าว/ต.การะเกด อ.เชียรใหญ่ | E14: ซื้อพันธุ์เป็ดไข่ตัวละ ๑๔๐ บาท อาหารเป็ดกระสอบละ ๔๕๐ | F14: 292300 | G14: 259000 | I14: 140 | J14: 33300
A15: 6 | B15: เชียรใหญ่ | C15: ส่งเสริมรายได้ในฤดูแล้ง | D15: กลุ่มเกษตรกรผู้ปลูกข้าว/ต.ท่าขนาน อ.เชียรใหญ่ | E15: ซื้อพันธุ์เป็ดไข่ตัวละ ๑๔๐ บาท อาหารเป็ดกระสอบละ ๔๕๐ | F15: 63200 | G15: 56000 | I15: 140 | J15: 7200
A16: 7 | B16: เชียรใหญ่ | C16: ส่งเสริมรายได้ให้แก่เกษตรกรในฤดูแล้ง | D16: กลุ่มเกษตรกรผู้ปลูกข้าว/ต.บ้านกลาง อ.เชียรใหญ่ | E16: ซื้อพันธุ์เป็ดไข่ตัวละ ๑๔๐ บาท อาหารเป็ดกระสอบละ ๔๕๐ | F16: 79000 | G16: 70000 | I16: 140 | J16: 9000
A17: 8 | B17: เชียรใหญ่ | C17: ส่งเสริมรายได้ให้แก่เกษตรกรในฤดูแล้ง | D17: กลุ่มเกษตรกรผู้ปลูกข้าว/ต.ไสหมาก อ.เชียรใหญ่ | E17: ซื้อพันธุ์เป็ดไข่ ตัวๆละ ๑๔๐ บาท อาหาร กระสอบละ ๔๕๐ บาท | F17: 395000 | G17: 350000 | I17: 140 | J17: 45000
A18: 9 | B18: เชียรใหญ่ | C18: ส่งเสริมรายได้ให้แก่เกษตรกรในฤดูแล้ง | D18: กลุ่มเกษตรกรผู้ปลูกข้าว/ต.บ้านเนิน อ.เชียรใหญ่ | E18: ซื้อพันธุ์เป็ดไข่ ตัวๆละ ๑๔๐ บาท อาหาร กระสอบละ ๔๕๐ บาท | F18: =G18+J18 -> 221200 | G18: 196000 | I18: 140 | J18: 25200
A19: 10 | B19: เชียรใหญ่ | C19: ส่งเสริมรายได้ให้แก่เกษตรกรในฤดูแล้ง | D19: กลุ่มเกษตรกรผู้ปลูกปาล์มน้ำมัน/ต.เชียรใหญ่ อ.เชียรใหญ่ | E19: ซื้อพันธุ์เป็ดไข่ ตัวๆละ ๑๔๐ บาท อาหาร กระสอบละ ๔๕๐ บาท | F19: =G19+J19 -> 39500 | G19: 35000 | I19: 140 | J19: 4500
A20: 11 | B20: เชียรใหญ่ | C20: ส่งเสริมรายได้ให้แก่เกษตรกรในฤดูแล้ง | D20: กลุ่มเกษตรกรผู้ปลูกปาล์มน้ำมัน/ต.เขาพระบาท อ.เชียรใหญ่ | E20: ซื้อพันธุ์เป็ดไข่ ตัวๆละ ๑๔๐ บาท อาหาร กระสอบละ ๔๕๐ บาท | F20: =G20+J20 -> 118500 | G20: 105000 | I20: 140 | J20: 13500
A21: 12 | B21: เชียรใหญ่ | C21: ส่งเสริมรายได้ให้แก่เกษตรกรในฤดูแล้ง | D21: กลุ่มเกษตรกรผู้ปลูกปาล์มน้ำมัน/ต.แม่เจ้าอยู่หัว อ.เชียรใหญ่ | E21: ซื้อพันธุ์เป็ดไข่ ตัวๆละ ๑๔๐ บาท อาหาร กระสอบละ ๔๕๐ บาท | F21: =G21+J21 -> 55300 | G21: 49000 | I21: 140 | J21: 6300
A22: 13 | B22: เชียรใหญ่ | C22: ส่งเสริมรายได้ให้แก่เกษตรกรในฤดูแล้ง | D22: กลุ่มเกษตรกรผู้ปลูกปาล์มน้ำมัน/ต.ท้องลำเจียก อ.เชียรใหญ่ | E22: ซื้อพันธุ์เป็ดไข่ตัวละ ๑๔๐ บาท อาหารเป็ดกระสอบละ ๔๕๐ | F22: =G22+J22 -> 110600 | G22: 98000 | I22: 140 | J22: 12600
A23: 14 | B23: เชียรใหญ่ | C23: ส่งเสริมรายได้ให้แก่เกษตรกรในฤดูแล้ง | D23: กลุ่มเกษตรกรผู้ปลูกปาล์มน้ำมัน/ต.การะเกด อ.เชียรใหญ่ | E23: ซื้อพันธุ์เป็ดไข่ตัวละ ๑๔๐ บาท อาหารเป็ดกระสอบละ ๔๕๐ | F23: =G23+J23 -> 102700 | G23: 91000 | I23: 140 | J23: 11700
A24: 15 | B24: เชียรใหญ่ | C24: ส่งเสริมรายได้ในฤดูแล้ง | D24: กลุ่มเกษตรกรผู้ปลูกปาล์มน้ำมัน/ต.ท่าขนาน อ.เชียรใหญ่ | E24: ซื้อพันธุ์เป็ดไข่ตัวละ ๑๔๐ บาท อาหารเป็ดกระสอบละ ๔๕๐ | F24: =G24+J24 -> 39500 | G24: 35000 | I24: 140 | J24: 4500
A25: 16 | B25: เชียรใหญ่ | C25: ส่งเสริมรายได้ให้แก่เกษตรกรในฤดูแล้ง | D25: กลุ่มเกษตรกรผู้ปลูกปาล์มน้ำมัน/ต.บ้านกลาง อ.เชียรใหญ่ | E25: ซื้อพันธุ์เป็ดไข่ตัวละ ๑๔๐ บาท อาหารเป็ดกระสอบละ ๔๕๐ | F25: =G25+J25 -> 23700 | G25: 21000 | I25: 140 | J25: 2700
A26: 17 | B26: เชียรใหญ่ | C26: ส่งเสริมรายได้ให้แก่เกษตรกรในฤดูแล้ง | D26: กลุ่มเกษตรกรผู้ปลูกปาล์มน้ำมัน/ต.เสือหึง อ.เชียรใหญ่ | E26: ซื้อพันธุ์เป็ดไข่ตัวละ ๑๔๐ บาท อาหารเป็ดกระสอบละ ๔๕๐ | F26: =G26+J26 -> 63200 | G26: 56000 | I26: 140 | J26: 7200
A27: 18 | B27: เชียรใหญ่ | C27: ส่งเสริมรายได้ให้แก่เกษตรกรในฤดูแล้ง | D27: กลุ่มเกษตรกรผู้ปลูกปาล์มน้ำมัน/ต.ไสหมาก อ.เชียรใหญ่ | E27: ซื้อพันธุ์เป็ดไข่ตัวละ ๑๔๐ บาท อาหารเป็ดกระสอบละ ๔๕๐ | F27: =G27+J27 -> 158000 | G27: 140000 | I27: 140 | J27: 18000
A28: 19 | B28: เชียรใหญ่ | C28: ส่งเสริมรายได้ให้แก่เกษตรกรในฤดูแล้ง | D28: กลุ่มเกษตรกรผู้ปลูกปาล์มน้ำมัน/ต.บ้านเนิน อ.เชียรใหญ่ | E28: ซื้อพันธุ์เป็ดไข่ตัวละ ๑๔๐ บาท อาหารเป็ดกระสอบละ ๔๕๐ | F28: =G28+J28 -> 150100 | G28: 133000 | I28: 140 | J28: 17100
A29: 20 | B29: เชียรใหญ่ | C29: ส่งเสริมรายได้ในฤดูแล้ง | D29: กลุ่มเกษตรกรผู้ปลูกยางพารา/ต.เขาพระบาท อ.เชียรใหญ่ | E29: ซื้อพันธุ์เป็ดไข่ตัวละ ๑๔๐ บาท อาหารเป็ดกระสอบละ ๔๕๐ | F29: =G29+J29 -> 63200 | G29: 56000 | I29: 140 | J29: 7200
... A31: 22 | B31: เชียรใหญ่ | C31: ส่งเสริมรายได้ให้แก่เกษตรกรในฤดูแล้ง | D31: กลุ่มเกษตรกรผู้ปลูกยางพารา/ต.เสือหึง อ.เชียรใหญ่ | E31: ซื้อพันธุ์เป็ดไข่ตัวละ ๑๔๐ บาท อาหารเป็ดกระสอบละ ๔๕๐ | F31: =G31+J31 -> 7900 | G31: 7000 | I31: 140 | J31: 900
A32: 23 | B32: ท่าศาลา | C32: เลี้ยงเป็ดไข่ในสวนยางพารา | D32: กลุ่มปลูกผักปลอดสารพิษ/ต.ท่าขึ้น อ.ท่าศาลา | E32: เลี้ยงเป็ดไข่ในสวนยางพารา | F32: =H32+J32 -> 78000 | H32: 18000 | I32: 30 | J32: 60000
A33: 24 | B33: ท่าศาลา | C33: เลี้ยงเป็ดพันธุ์ไข่ในสวนยางพารา | D33: กลุ่มไม้ผลคุณภาพ/ต.ท่าขึ้น อ.ท่าศาลา | E33: เลี้ยงเป็ดไข่ในสวนยางพารา | F33: =H33+J33 -> 117000 | H33: 27000 | I33: 30 | J33: 90000
A34: 25 | B34: ท่าศาลา | C34: เลี้ยงเป็ดไข่ | D34: กลุ่มเกษตรกร/ต.หัวตะพาน อ.ท่าศาลา | E34: เลี้ยงเป็ดไข่ | F34: =G34+H34+J34 -> 252000 | G34: 180000 | I34: 300 | J34: 72000
A35: 26 | B35: ท่าศาลา | C35: เลี้ยงเป็ดไข่ | D35: กลุ่มเกษตรกร/ต.ท่าขึ้น ต.ท่าศาลา | E35: เลี้ยงเป็ดไข่ | F35: =G35+H35+J35 -> 108000 | G35: 108000 | I35: 180
A36: 27 | B36: ท่าศาลา | C36: เลี้ยงเป็ดไข่ในสวนปาล์มน้ำมัน | D36: กลุ่มแม่บ้านเกษตรกรบ้านแขก/ม.๑๓ ต.ท่าขึ้น อ.ท่าศาลา | E36: เลี้ยงเป็ดไข่ในสวนปาล์มน้ำมัน | F36: =G36+H36+J36 -> 132300 | H36: 44100 | I36: 30 | J36: 88200
A37: 28 | B37: ท่าศาลา | C37: เลี้ยงเป็ดไข่ในสวนยางพารา | D37: กลุ่มนาข้าว/ ม.๓ ต.ท่าศาลา อ.ท่าศาลา | E37: เลี้ยงเป็ดไข่ในสวนยางพาราและนาข้าว | F37: =G37+H37+J37 -> 133200 | H37: 45000 | I37: 30 | J37: 88200
A38: 29 | B38: ท่าศาลา | C38: เลี้ยงเป็ดในสวนยางพารา | D38: กลุ่มไม้ผลคุณภาพ/ม.๘ ต.ท่าขึ้น อ.ท่าศาลา | E38: เลี้ยงเป็ดในสวนยางพารา | F38: =G38+H38+J38 -> 157500 | G38: 157500
A39: 30 | B39: ท่าศาลา | C39: เลี้ยงเป็ดในสวนยางพารา | D39: ศูนย์จัดการศัตรูพืช/ต.สระแก้ว อ.ท่าศาลา | E39: เลี้ยงเป็ดในสวนยางพารา | F39: =G39+H39+J39 -> 72000 | G39: 18000 | J39: 54000
A40: 31 | B40: ท่าศาลา | C40: เลี้ยงเป็ดไข่ | D40: กลุ่มเลี้ยงเป็ดไข่/ต.โพธิ์ทอง อ.ท่าศาลา | E40: เลี้ยงเป็ดไข่ | F40: =G40+H40+J40 -> 70000 | G40: 45000 | I40: 150 | J40: 25000
A41: 32 | B41: นบพิตำ | C41: โครงการส่งเสริมการเลี้ยงเป็ดไข่ในชุมชนบ้านสะพานราง | D41: กลุ่มเกษตรกรผู้เลี้ยงเป็ด/ต.กะหรอ อ.นบพิตำ | E41: จัดซื้อพันธุ์เป็ดไข่ จำนวน ๔๐๐ ตัว ๆ ละ ๒๐๐ บาท และอาหารเป็ดไข่ ๔๐ กระสอบ | F41: =G41+H41+J41 -> 92000 | G41: 72000 | I41: 200 | J41: 20000
A42: 33 | B42: เมือง นศ. | C42: โครงการส่งเสริมกลุ่มอาชีพเกษตรกรผู้เลี้ยงเป็ดพันธ์ไข่ ต.ท่าไร่ | D42: กลุ่มเกษตรกรเลี้ยงสัตว์/ต.ท่าไร่ อ.เมือง นศ. | E42: จัดซื้อพันธุ์ลูกเป็ดไข่ ๑,๕๐๐ ตัวๆ ละ ๓๐ บาท และซื้ออาหารเบอร์๑ และเบอร์๒ | F42: =G42+H42+J42 -> 609000 | H42: 45000 | I42: 30 | J42: 564000
A43: 34 | B43: สิชล | C43: โครงการเลี้ยงเป็ดไข่ - ไก่ไข่ ต.ทุ่งใส | D43: กลุ่มเกษตรกรชาวสวน/ต.ทุ่งใส อ.สิชล | E43: จัดซื้อพันธุ์เป็ดไข่ จำนวน ๑,๖๐๐ ตัว อายุ ๑๔ สัปดาห์ ตัวละ ๑๗๕ บาท และซื้ออาหารจำนวน ๖๖ กระสอบๆละ ๔๘๕ บาท | F43: =G43+H43+J43 -> 312010 | G43: 280000 | I43: 175 | J43: 32010
...

Sheet ไก่ไข่
A1: แบบสรุปโครงการมาตรการ
A2: เร่งด่วนแก้ปัญหาด้านการผลิตและรายได้ เพื่อเสริมสร้างความเข้มแข็ง
A4: จังหวัดนครศรีธรรมราช
C5: กิจกรรมด้านปศุสัตว์ (รหัส ๓) เลี้ยงไก่ไข่
A7: ลำดับ | B7: อำเภอ | C7: โครงการ | D7: กลุ่มที่รองรับ/ที่ตั้ง | E7: กิจกรรม | F7: งบประมาณ | G7: รายการจัดซื้อตามงบประมาณที่เสนอขอ
G8: พันธุ์ไก่ไข่ ขนาด/อายุ | K8: อาหาร
G9: ๔ เดือน | H9: ลูกไก่ | I9: ๒ ด.ครึ่ง | J9: ราคาตัวละ
A10: 1 | B10: ชะอวด | C10: เลี้ยงไก่ไข่ | D10: กลุ่มผู้ปลูกพืชผัก/ต.ขอนหาด อ.ชะอวด | E10: เลี้ยงไก่ไข่ | F10: 57600 | G10: 57600 | J10: 160
A11: 2 | B11: ชะอวด | C11: เลี้ยงไก่ไข่ | D11: กลุ่มปลูกผลไม้/ ต.ขอนหาด อ.ชะอวด | E11: เลี้ยงไก่ไข่ | F11: 147200 | G11: 147200 | J11: 160
A12: 3 | B12: ชะอวด | C12: เลี้ยงไก่ไข่ | D12: กลุ่มรับจ้าง/ ต.ขอนหาด อ.ชะอวด | E12: เลี้ยงไก่ไข่ | F12: 1158400 | G12: 1158400 | J12: 160
A13: 4 | B13: ชะอวด | C13: เลี้ยงไก่ไข่ | D13: กลุ่มรับจ้าง/ ต.ขอนหาด อ.ชะอวด | E13: เลี้ยงไก่ไข่ | F13: 428800 | G13: 428800 | J13: 160
A14: 5 | B14: ชะอวด | C14: เลี้ยงไก่ไข่ | D14: กลุ่มผู้ปลูกยางพารา/ต.ขอนหาด อ.ชะอวด | E14: เลี้ยงไก่ไข่ | F14: 1648000 | G14: 1648000 | J14: 160
A15: 6 | B15: ชะอวด | C15: เลี้ยงไก่ไข่ | D15: กลุ่มผู้ปลูกปาล์มน้ำมัน/ ต.ขอนหาด อ.ชะอวด | E15: เลี้ยงไก่ไข่ | F15: 278400 | G15: 278400 | J15: 160
A16: 7 | B16: ชะอวด | C16: เลี้ยงไก่ไข่ | D16: กลุ่มสวนยางพารา/ ต.ท่าประจะ อ.ชะอวด | E16: เลี้ยงไก่ไข่ | F16: 1222400 | G16: 1222400 | J16: 160
A17: 8 | B17: ชะอวด | C17: เลี้ยงไก่ไข่ | D17: กลุ่มปาล์มน้ำมัน/ต.ท่าประจะ อ.ชะอวด | E17: เลี้ยงไก่ไข่ | F17: 278400 | G17: 278400 | J17: 160
A18: 9 | B18: ชะอวด | C18: เลี้ยงไก่ไข่ | D18: กลุ่มผลไม้/ ต.เขาพระทอง อ.ชะอวด | E18: เลี้ยงไก่ไข่ | F18: 947200 | G18: 947200 | J18: 160
A19: 10 | B19: ชะอวด | C19: เลี้ยงไก่ไข่ | D19: กลุ่มปาล์มน้ำมัน/ต.เขาพระทอง อ.ชะอวด | E19: เลี้ยงไก่ไข่ | F19: 371200 | G19: 371200 | J19: 160
A20: 11 | B20: ชะอวด | C20: เลี้ยงไก่ไข่ | D20: กลุ่มรับจ้างทั่วไป/ต.เขาพระทอง อ.ชะอวด | E20: เลี้ยงไก่ไข่ | F20: 1404800 | G20: 1404800 | J20: 160
A21: 12 | B21: ชะอวด | C21: เลี้ยงไก่ไข่ | D21: กลุ่มยางพารา/ต.เขาพระทอง อ.ชะอวด | E21: เลี้ยงไก่ไข่ | F21: 3324800 | G21: 3324800 | J21: 160
... A23: 14 | B23: ชะอวด | C23: เลี้ยงไก่ไข่ | D23: กลุ่มทำสวนยางพารา/ต.วังอ่าง อ.ชะอวด | E23: เลี้ยงไก่ไข่ | F23: 9979200 | G23: 9979200 | J23: 160
A24: 15 | B24: ช้างกลาง | C24: เลี้ยงไก่พันธุ์ไข่เพื่อลดรายจ่ายเพิ่มรายได้ในครัวเรือน | D24: กลุ่มเกษตรกรอาชีพสวนยาง/ อ.ช้างกลาง | E24: เลี้ยงไก่ไข่ ซื้อพันธุ์ไก่ตัวละ ๑๒๐ บาท,ซื้ออาหารไก่กระสอบละ ๕๔๐ บาท | F24: =G24+K24 -> 2088000 | G24: 1440000 | J24: 120 | K24: 648000
A25: 16 | B25: ช้างกลาง | C25: เลี้ยงไก่พันธุ์ไข่เพื่อลดรายจ่ายเพิ่มรายได้ในครัวเรือน | D25: กลุ่มเกษตรกรอาชีพสวนยาง/ อ.ช้างกลาง | E25: เลี้ยงไก่ไข่ ซื้อพันธุ์ไก่ตัวละ ๑๒๐ บาท,ซื้ออาหารไก่กระสอบละ ๕๔๐ บาท | F25: =G25+K25 -> 2088000 | G25: 1440000 | J25: 120 | K25: 648000
A26: 17 | B26: เชียรใหญ่ | C26: ส่งเสริมรายได้ในฤดูแล้ง | D26: กลุ่มเกษตรกรผู้ปลูกข้าว/ต.เชียรใหญ่ อ.เชียรใหญ่ | E26: ซื้อพันธุ์ไก่ไข่ ตัวๆละ ๑๘๐ บาท อาหารไก่ไข่ กระสอบละ ๔๕๐ บาท | F26: =G26+K26 -> 592200 | G26: 507600 | J26: 180 | K26: 84600
A27: 18 | B27: เชียรใหญ่ | C27: ส่งเสริมรายได้ในฤดูแล้ง | D27: กลุ่มเกษตรกรผู้ปลูกข้าว/ต.เขาพระบาท อ.เชียรใหญ่ | E27: ซื้อพันธุ์ไก่ไข่ ตัวๆละ ๑๘๐ บาท อาหารไก่ไข่ กระสอบละ ๔๕๐ บาท | F27: =G27+K27 -> 409500 | G27: 351000 | J27: 180 | K27: 58500
A28: 19 | B28: เชียรใหญ่ | C28: ส่งเสริมรายได้ในฤดูแล้ง | D28: กลุ่มเกษตรกรผู้ปลูกข้าว/ต.แม่เจ้าอยู่หัว อ.เชียรใหญ่ | E28: ซื้อพันธุ์ไก่ไข่ ตัวๆละ ๑๘๐ บาท อาหารไก่ไข่ กระสอบละ ๔๕๐ บาท | F28: =G28+K28 -> 504000 | G28: 432000 | J28: 180 | K28: 72000
A29: 20 | B29: เชียรใหญ่ | C29: ส่งเสริมรายได้ให้แก่เกษตรกรในฤดูแล้ง | D29: กลุ่มเกษตรกรผู้ปลูกข้าว/ต.การะเกด อ.เชียรใหญ่ | E29: ซื้อพันธุ์ไก่ไข่ ตัวๆละ ๑๘๐ บาท อาหารไก่ไข่ กระสอบละ ๔๕๐ บาท | F29: =G29+K29 -> 1171800 | G29: 1004400 | J29: 180 | K29: 167400
A30: 21
A31: 22 | B31: เชียรใหญ่ | C31: ส่งเสริมรายได้ในฤดูแล้ง | D31: กลุ่มเกษตรกรผู้ปลูกข้าว/ต.ท่าขนาน อ.เชียรใหญ่ | E31: ซื้อพันธุ์ไก่ไข่ ตัวๆละ ๑๘๐ บาท อาหารไก่ไข่ กระสอบละ ๔๕๐ บาท | F31: =G31+K31 -> 896400 | G31: 734400 | J31: 180 | K31: 162000
A32: 23 | B32: เชียรใหญ่ | C32: ส่งเสริมรายได้ให้แก่เกษตรกรในฤดูแล้ง | D32: กลุ่มเกษตรกรผู้ปลูกข้าว/ต.บ้านกลาง อ.เชียรใหญ่ | E32: ซื้อพันธุ์ไก่ไข่ ตัวๆละ ๑๘๐ บาท อาหารไก่ไข่ กระสอบละ ๔๕๐ บาท | F32: =G32+K32 -> 157500 | G32: 135000 | J32: 180 | K32: 22500
A33: 24 | B33: เชียรใหญ่ | C33: ส่งเสริมรายได้ให้แก่เกษตรกรในฤดูแล้ง | D33: กลุ่มเกษตรกรผู้ปลูกข้าว/ต.ไสหมาก อ.เชียรใหญ่ | E33: ซื้อพันธุ์ไก่ไข่ ตัวๆละ ๑๘๐ บาท อาหารไก่ไข่ กระสอบละ ๔๕๐ บาท | F33: =G33+K33 -> 1688400 | G33: 1447200 | J33: 180 | K33: 241200
A34: 25 | B34: เชียรใหญ่ | C34: ส่งเสริมรายได้ให้แก่เกษตรกรในฤดูแล้ง | D34: กลุ่มเกษตรกรผู้ปลูกข้าว/ต.บ้านเนิน อ.เชียรใหญ่ | E34: ซื้อพันธุ์ไก่ไข่ ตัวๆละ ๑๘๐ บาท อาหารไก่ไข่ กระสอบละ ๔๕๐ บาท | F34: =G34+K34 -> 667800 | G34: 572400 | J34: 180 | K34: 95400
A35: 26 | B35: เชียรใหญ่ | C35: ส่งเสริมรายได้ให้แก่เกษตรกรในฤดูแล้ง | D35: กลุ่มเกษตรกรผู้ปลูกปาล์มน้ำมัน/ต.เชียรใหญ่ อ.เชียรใหญ่ | E35: ซื้อพันธุ์ไก่ไข่ ตัวละ ๑๘๐ บาท อาหารไก่ไข่ กระสอบละ ๔๕๐ บาท | F35: =G35+K35 -> 151200 | G35: 129600 | J35: 180 | K35: 21600
A36: 27 | B36: เชียรใหญ่ | C36: ส่งเสริมรายได้ให้แก่เกษตรกรในฤดูแล้ง | D36: กลุ่มเกษตรกรผู้ปลูกปาล์มน้ำมัน/ต.เขาพระบาท อ.เชียรใหญ่ | E36: ซื้อพันธุ์ไก่ไข่ ตัวละ ๑๘๐ บาท อาหารไก่ไข่ กระสอบละ ๔๕๐ บาท | F36: =G36+K36 -> 636300 | G36: 545400 | J36: 180 | K36: 90900
A37: 28 | B37: เชียรใหญ่ | C37: ส่งเสริมรายได้ให้แก่เกษตรกรในฤดูแล้ง | D37: กลุ่มเกษตรกรผู้ปลูกปาล์มน้ำมัน/ต.แม่เจ้าอยู่หัว อ.เชียรใหญ่ | E37: ซื้อพันธุ์ไก่ไข่ ตัวละ ๑๘๐ บาท อาหารไก่ไข่ กระสอบละ ๔๕๐ บาท | F37: =G37+K37 -> 308700 | G37: 264600 | J37: 180 | K37: 44100
A38: 29 | B38: เชียรใหญ่ | C38: ส่งเสริมรายได้ให้แก่เกษตรกรในฤดูแล้ง | D38: กลุ่มเกษตรกรผู้ปลูกปาล์มน้ำมัน/ต.ท้องลำเจียก อ.เชียรใหญ่ | E38: ซื้อพันธุ์ไก่ไข่ ตัวละ ๑๘๐ บาท อาหารไก่ไข่ กระสอบละ ๔๕๐ บาท | F38: =G38+K38 -> 447300 | G38: 383400 | J38: 180 | K38: 63900
A39: 30 | B39: เชียรใหญ่ | C39: ส่งเสริมรายได้ให้แก่เกษตรกรในฤดูแล้ง | D39: กลุ่มเกษตรกรผู้ปลูกปาล์มน้ำมัน/ต.การะเกด อ.เชียรใหญ่ | E39: ซื้อพันธุ์ไก่ไข่ ตัวละ ๑๘๐ บาท อาหารไก่ไข่ กระสอบละ ๔๕๐ บาท | F39: =G39+K39 -> 963900 | G39: 826200 | J39: 180 | K39: 137700
A40: 31 | B40: เชียรใหญ่ | C40: ส่งเสริมรายได้ในฤดูแล้ง | D40: กลุ่มเกษตรกรผู้ปลูกปาล์มน้ำมัน/ต.ท่าขนาน อ.เชียรใหญ่ | E40: ซื้อพันธุ์ไก่ไข่ ตัวละ ๑๘๐ บาท อาหารไก่ไข่ กระสอบละ ๔๕๐ บาท | F40: =G40+K40 -> 170100 | G40: 145800 | J40: 180 | K40: 24300
A41: 32 | B41: เชียรใหญ่ | C41: ส่งเสริมรายได้ให้แก่เกษตรกรในฤดูแล้ง | D41: กลุ่มเกษตรกรผู้ปลูกปาล์มน้ำมัน/ต.บ้านกลาง อ.เชียรใหญ่ | E41: ซื้อพันธุ์ไก่ไข่ ตัวละ ๑๘๐ บาท อาหารไก่ไข่ กระสอบละ ๔๕๐ บาท | F41: =G41+K41 -> 264600 | G41: 226800 | J41: 180 | K41: 37800
A42: 33 | B42: เชียรใหญ่ | C42: ส่งเสริมรายได้ให้แก่เกษตรกรในฤดูแล้ง | D42: กลุ่มเกษตรกรผู้ปลูกปาล์มน้ำมัน/ต.เสือหึง อ.เชียรใหญ่ | E42: ซื้อพันธุ์ไก่ไข่ ตัวละ ๑๘๐ บาท อาหารไก่ไข่ กระสอบละ ๔๕๐ บาท | F42: =G42+K42 -> 705600 | G42: 604800 | J42: 180 | K42: 100800
... A48: 39 | B48: เชียรใหญ่ | C48: ส่งเสริมรายได้ให้แก่เกษตรกรในฤดูแล้ง | D48: กลุ่มเกษตรกรผู้ปลูกยางพารา/ต.เสือหึง อ.เชียรใหญ่ | E48: ซื้อพันธุ์ไก่ไข่ ตัวละ ๑๘๐ บาท อาหารไก่ไข่ กระสอบละ ๔๕๐ บาท | F48: =G48+K48 -> 37800 | G48: 32400 | J48: 180 | K48: 5400
...

Sheet ไก่พื้นเมือง
A1: แบบสรุปโครงการมาตรการ
A2: เร่งด่วนแก้ปัญหาด้านการผลิตและรายได้ เพื่อเสริมสร้างความเข้มแข็ง
A4: จังหวัดนครศรีธรรมราช
C5: กิจกรรมด้านปศุสัตว์ (รหัส ๓) เลี้ยงไก่พื้นเมือง,ไก่สามสายเลือด
A7: ลำดับ | B7: อำเภอ | C7: โครงการ | D7: กลุ่มที่รองรับ/ที่ตั้ง | E7: กิจกรรม | F7: งบประมาณ | G7: รายการจัดซื้อตามงบประมาณที่เสนอขอ
G8: ชนิด/ขนาด/อายุ/น้ำหนัก | L8: ราคาตัวละ | M8: อาหาร | N8: ยา/เวชภัณฑ์ | O8: อุปกรณ์โรงเรือน
G9: ๒ สป.-๑ ด. สามสายเลือด | H9: ๒ สป.-๑ ด. พื้นเมือง | I9: ๓ เดือน พื้นเมือง | J9: นน. ≥๑ กก./ ไก่สาวพื้นเมือง | K9: นน. ≤ ๒ กก. พื้นเมือง
A10: 1 | B10: ขนอม | C10: ส่งเสริมการเลี้ยงไก่พื้นเมือง | D10: กลุ่มเกษตรกรผู้ปลูกยางพารา/ต.ขนอม ต.ควนทอง ต.ท้องเนียน อ.ขนอม | E10: จัดซื้อลูกไก่พันธุ์พื้นเมือง | F10: 4504500 | H10: 4504500 | L10: 50
A11: 2 | B11: จุฬาภรณ์ | C11: โครงการส่งเสริมการเลี้ยงไก่พื้นเมืองลูกผสม | D11: กลุ่มเกษตรกรเลี้ยงไก่พื้นเมือง/ม.๑ ต.ทุ่งโพธิ์ อ.จุฬาภรณ์ | E11: จัดซื้อพันธุ์ไก่พื้นเมืองลูกผสมเพศเมีย และอาหารสำหรับไก่สาว | F11: 168000 | J11: 120000 | L11: 120 | M11: 48000
A12: 3 | B12: จุฬาภรณ์ | C12: โครงการกลุ่มเกษตรอินทรีย์ศรีจุฬา เกษตรทฤษฎีใหม่แบบผสมผสาน | D12: กลุ่มเกษตรอินทรีย์ศรีจุฬา/ ต.นาหมอบุญ อ.จุฬาภรณ์ | E12: ซื้อพันธุ์ไก่พื้นเมือง | F12: 50000 | H12: 50000 | L12: 50
A13: 4 | B13: ชะอวด | C13: ส่งเสริมอาชีพรายได้แก่กลุ่มสวนยาง | D13: กลุ่มทำสวนยางพารา/ต.นางหลง อ.ชะอวด | E13: ซื้อพันธุ์ไก่พื้นเมือง | F13: 4704000 | I13: 4704000 | L13: 70
A14: 5 | B14: ชะอวด | C14: ส่งเสริมอาชีพรายได้แก่กลุ่มรับจ้าง | D14: กลุ่มรับจ้างทั่วไป/ ต.ชะอวด อ.ชะอวด | E14: ซื้อพันธุ์ไก่พื้นเมือง | F14: 1728300 | I14: 1728300 | L14: 70
A15: 6 | B15: ชะอวด | C15: เลี้ยงไก่พันธุ์พื้นเมือง | D15: กลุ่มทำสวนยางพารา/ ต.เคร็ง อ.ชะอวด | E15: ซื้อแม่พันธุ์ไก่พื้นเมือง | F15: 3397500 | J15: 3397500 | L15: 150
A16: 7 | B16: ชะอวด | C16: ส่งเสริมเพิ่มรายได้แก่กลุ่มสวนยาง | D16: กลุ่มทำสวนยางพารา/ ต.ควนหนองหงส์ อ.ชะอวด | E16: ซื้อพันธุ์ไก่พื้นเมือง | F16: 5149200 | I16: 5149200 | L16: 70
A17: 8 | B17: ชะอวด | C17: เลี้ยงไก่พื้นเมือง | D17: กลุ่มรับจ้าง/ต.วังอ่าง อ.ชะอวด | E17: ซื้อพันธุ์ไก่พื้นเมือง | F17: 1682800 | I17: 1682800 | L17: 70
A18: 9 | B18: ชะอวด | C18: สร้างรายได้เสริมกลุ่มผู้ปลูกยางพาราเพื่อแก้ปัญหาความยากจน | D18: กลุ่มผู้ปลูกยางพารา/ต.เกาะขันธ์ อ.ชะอวด | E18: ซื้อพันธุ์ไก่พื้นเมือง | F18: 2007600 | I18: 2007600 | L18: 70
A19: 10 | B19: เชียรใหญ่ | C19: ส่งเสริมรายได้ในฤดูแล้ง | D19: กลุ่มเกษตรกรผู้ปลูกข้าว/ต.เชียรใหญ่ อ.เชียรใหญ่ | E19: ซื้อไก่พื้นเมือง และอาหาร | F19: 162800 | I19: 129500 | L19: 70 | M19: 33300
A20: 11 | B20: เชียรใหญ่ | C20: ส่งเสริมรายได้ในฤดูแล้ง | D20: กลุ่มเกษตรกรผู้ปลูกข้าว/ต.เขาพระบาท อ.เชียรใหญ่ | E20: ซื้อไก่พื้นเมือง และอาหาร | F20: 61600 | I20: 49000 | L20: 70 | M20: 12600
A21: 12 | B21: เชียรใหญ่ | C21: ส่งเสริมรายได้ในฤดูแล้ง | D21: กลุ่มเกษตรกรผู้ปลูกข้าว/ต.แม่เจ้าอยู่หัว อ.เชียรใหญ่ | E21: ซื้อไก่พื้นเมือง และอาหาร | F21: 132000 | I21: 105000 | L21: 70 | M21: 27000
A22: 13 | B22: เชียรใหญ่ | C22: ส่งเสริมรายได้ให้แก่เกษตรกรในฤดูแล้ง | D22: กลุ่มเกษตรกรผู้ปลูกข้าว/ต.ท้องลำเจียก อ.เชียรใหญ่ | E22: ซื้อไก่พื้นเมือง และอาหาร | F22: 162800 | I22: 129500 | L22: 70 | M22: 33300
A23: 14 | B23: เชียรใหญ่ | C23: ส่งเสริมรายได้ให้แก่เกษตรกรในฤดูแล้ง | D23: กลุ่มเกษตรกรผู้ปลูกข้าว/ต.การะเกด อ.เชียรใหญ่ | E23: ซื้อไก่พื้นเมือง และอาหาร | F23: 17600 | I23: 14000 | L23: 70 | M23: 3600
A24: 15 | B24: เชียรใหญ่ | C24: ส่งเสริมรายได้ในฤดูแล้ง | D24: กลุ่มเกษตรกรผู้ปลูกข้าว/ต.ท่าขนาน อ.เชียรใหญ่ | E24: ซื้อไก่พื้นเมือง และอาหาร | F24: 158400 | I24: 126000 | L24: 70 | M24: 32400
A25: 16 | B25: เชียรใหญ่ | C25: ส่งเสริมรายได้ให้แก่เกษตรกรในฤดูแล้ง | D25: กลุ่มเกษตรกรผู้ปลูกข้าว/ต.บ้านกลาง อ.เชียรใหญ่ | E25: ซื้อไก่พื้นเมือง และอาหาร | F25: 26400 | I25: 21000 | L25: 70 | M25: 5400
A26: 17 | B26: เชียรใหญ่ | C26: ส่งเสริมรายได้ให้แก่เกษตรกรในฤดูแล้ง | D26: กลุ่มเกษตรกรผู้ปลูกข้าว/ต.ไสหมาก อ.เชียรใหญ่ | E26: ซื้อไก่พื้นเมือง และอาหาร | F26: 356400 | I26: 283500 | L26: 70 | M26: 72900
A27: 18 | B27: เชียรใหญ่ | C27: ส่งเสริมรายได้ให้แก่เกษตรกรในฤดูแล้ง | D27: กลุ่มเกษตรกรผู้ปลูกข้าว/ต.บ้านเนิน อ.เชียรใหญ่ | E27: ซื้อไก่พื้นเมือง และอาหาร | F27: =I27+M27 -> 110000 | I27: 87500 | L27: 70 | M27: 22500
A28: 19 | B28: เชียรใหญ่ | C28: ส่งเสริมรายได้ให้แก่เกษตรกรในฤดูแล้ง | D28: กลุ่มเกษตรกรผู้ปลูกปาล์มน้ำมัน/ต.เชียรใหญ่ อ.เชียรใหญ่ | E28: ซื้อไก่พื้นเมือง และอาหาร | F28: 26400 | I28: 21000 | L28: 70 | M28: 5400
A29: 20 | B29: เชียรใหญ่ | C29: ส่งเสริมรายได้ให้แก่เกษตรกรในฤดูแล้ง | D29: กลุ่มเกษตรกรผู้ปลูกปาล์มน้ำมัน/ต.เขาพระบาท อ.เชียรใหญ่ | E29: ซื้อไก่พื้นเมือง และอาหาร | F29: 61600 | I29: 49000 | L29: 70 | M29: 12600
A30: 21 | B30: เชียรใหญ่ | C30: ส่งเสริมรายได้ให้แก่เกษตรกรในฤดูแล้ง | D30: กลุ่มเกษตรกรผู้ปลูกปาล์มน้ำมัน/ต.แม่เจ้าอยู่หัว อ.เชียรใหญ่ | E30: ซื้อไก่พื้นเมือง และอาหาร | F30: =I30+M30 -> 699600 | I30: 556500 | L30: 70 | M30: 143100
A31: 22 | B31: เชียรใหญ่ | C31: ส่งเสริมรายได้ให้แก่เกษตรกรในฤดูแล้ง | D31: กลุ่มเกษตรกรผู้ปลูกปาล์มน้ำมัน/ต.ท้องลำเจียก อ.เชียรใหญ่ | E31: ซื้อไก่พื้นเมือง และอาหาร | F31: =I31+M31 -> 48400 | I31: 38500 | L31: 70 | M31: 9900
A32: 23 | B32: เชียรใหญ่ | C32: ส่งเสริมรายได้ให้แก่เกษตรกรในฤดูแล้ง | D32: กลุ่มเกษตรกรผู้ปลูกปาล์มน้ำมัน/ต.การะเกด อ.เชียรใหญ่ | E32: ซื้อไก่พื้นเมือง และอาหาร | F32: =I32+M32 -> 30000 | I32: 8400 | L32: 70 | M32: 21600
A33: 24 | B33: เชียรใหญ่ | C33: ส่งเสริมรายได้ในฤดูแล้ง | D33: กลุ่มเกษตรกรผู้ปลูกปาล์มน้ำมัน/ต.ท่าขนาน อ.เชียรใหญ่ | E33: ซื้อไก่พื้นเมือง และอาหาร | F33: =I33+M33 -> 26400 | I33: 21000 | L33: 70 | M33: 5400
A34: 25 | B34: เชียรใหญ่ | C34: ส่งเสริมรายได้ให้แก่เกษตรกรในฤดูแล้ง | D34: กลุ่มเกษตรกรผู้ปลูกปาล์มน้ำมัน/ต.บ้านกลาง อ.เชียรใหญ่ | E34: ซื้อไก่พื้นเมือง และอาหาร | F34: =I34+M34 -> 57200 | I34: 45500 | L34: 70 | M34: 11700
A35: 26 | B35: เชียรใหญ่ | C35: ส่งเสริมรายได้ให้แก่เกษตรกรในฤดูแล้ง | D35: กลุ่มเกษตรกรผู้ปลูกปาล์มน้ำมัน/ต.เสือหึง อ.เชียรใหญ่ | E35: ซื้อไก่พื้นเมือง และอาหาร | F35: =I35+M35 -> 45000 | I35: 31500 | L35: 70 | M35: 13500
A36: 27 | B36: เชียรใหญ่ | C36: ส่งเสริมรายได้ให้แก่เกษตรกรในฤดูแล้ง | D36: กลุ่มเกษตรกรผู้ปลูกปาล์มน้ำมัน/ต.ไสหมาก อ.เชียรใหญ่ | E36: ซื้อไก่พื้นเมือง และอาหาร | F36: =I36+M36 -> 66000 | I36: 52500 | L36: 70 | M36: 13500
A37: 28 | B37: เชียรใหญ่ | C37: ส่งเสริมรายได้ให้แก่เกษตรกรในฤดูแล้ง | D37: กลุ่มเกษตรกรผู้ปลูกปาล์มน้ำมัน/ต.บ้านเนิน อ.เชียรใหญ่ | E37: ซื้อไก่พื้นเมือง และอาหาร | F37: =I37+M37 -> 154000 | I37: 122500 | L37: 70 | M37: 31500
A38: 29 | B38: เชียรใหญ่ | C38: ส่งเสริมรายได้ให้แก่เกษตรกรในฤดูแล้ง | D38: กลุ่มเกษตรกรผู้ปลูกยางพารา/ต.แม่เจ้าอยู่หัว อ.เชียรใหญ่ | E38: ซื้อไก่พื้นเมือง และอาหาร | F38: =I38+M38 -> 57200 | I38: 45500 | L38: 70 | M38: 11700
A39: 30 | B39: เชียรใหญ่ | C39: ส่งเสริมรายได้ให้แก่เกษตรกรในฤดูแล้ง | D39: กลุ่มเกษตรกรผู้ปลูกยางพารา/ต.การะเกด อ.เชียรใหญ่ | E39: ซื้อไก่พื้นเมือง และอาหาร | F39: =I39+M39 -> 8800 | I39: 7000 | L39: 70 | M39: 1800
A40: 31 | B40: ท่าศาลา | C40: เลี้ยงไก่พื้นเมืองในสวนมะพร้าว | D40: กลุ่มเลี้ยงไก่บ้านสระบัว/ต.ท่าศาลา อ.ท่าศาลา | E40: เลี้ยงไก่พื้นเมืองในสวนมะพร้าว | F40: =H40+M40 -> 150000 | H40: 90000 | L40: 150 | M40: 60000
A41: 32 | B41: ท่าศาลา | C41: เลี้ยงไก่พื้นเมือง | D41: กลุ่มชาวสวนยาง/ม.๙ ต.ไทยบุรี อ.ท่าศาลา | E41: เลี้ยงไก่พื้นเมือง | F41: =H41+M41 -> 164000 | H41: 80000 | L41: 80 | M41: 84000
A42: 33 | B42: ทุ่งใหญ่ | C42: ส่งเสริมอาชีพเลี้ยงไก่พันธุ์พื้นเมืองในหมู่บ้านเศรษฐกิจพอเพียงต้นแบบ | D42: สมาชิกครัวเรือนต้นแบบหมู่บ้านเศรษฐกิจพอเพียงต้นแบบ/ม.๓ ต.ควนยูง อ.ทุ่งใหญ่ | E42: ซื้อไก่พันธุ์พื้นเมือง และซื้ออาหาร ยาปฏิชีวนะ วัคซีน รางใส่อาหาร รางใส่น้ำ | F42: =H42+M42+N42+O42 -> 52270 | H42: 30000 | L42: 50 | M42: 15000 | N42: 970 | O42: 6300
...

Sheet ประมง
A1: แบบสรุปโครงการมาตรการ
A2: เร่งด่วนแก้ปัญหาด้านการผลิตและรายได้ เพื่อเสริมสร้างความเข้มแข็ง
A4: จังหวัดนครศรีธรรมราช
C5: กิจกรรมด้านประมงน้ำจืด/น้ำเค็ม (รหัส ๔)
A7: ลำดับ | B7: อำเภอ | C7: โครงการ | D7: กลุ่มที่รองรับ/ที่ตั้ง | E7: กิจกรรม | F7: งบประมาณ | G7: รายการจัดซื้อตามงบประมาณที่เสนอขอ
G8: พันธุ์ปลา | K8: ราคาตัวละ | L8: อาหาร | M8: อาหารเสริม | N8: ยา | O8: อวนปู | P8: อุปกรณ์บ่อเลี้ยงปลา
G9: ดุกอุย | H9: ดุกบิ๊กอุย | I9: นิล | J9: กะพง
A10: 1 | B10: เชียรใหญ่ | C10: ส่งเสริมรายได้ในฤดูแล้ง | D10: กลุ่มเกษตรกรผู้ปลูกข้าว/ต.เชียรใหญ่ อ.เชียรใหญ่ | E10: ซื้อปลานิล ตัวละ ๑ บาท และอาหารกระสอบละ ๔๕๐ บาท | F10: =I10+L10 -> 544000 | I10: 400000 | K10: 1 | L10: 144000
A11: 2 | B11: เชียรใหญ่ | C11: ส่งเสริมรายได้ในฤดูแล้ง | D11: กลุ่มเกษตรกรผู้ปลูกข้าว/ต.เขาพระบาท อ.เชียรใหญ่ | E11: ซื้อปลานิล ตัวละ ๑ บาท และอาหารกระสอบละ ๔๕๐ บาท | F11: =I11+L11 -> 428400 | I11: 315000 | K11: 1 | L11: 113400
A12: 3 | B12: เชียรใหญ่ | C12: ส่งเสริมรายได้ในฤดูแล้ง | D12: กลุ่มเกษตรกรผู้ปลูกข้าว/ต.แม่เจ้าอยู่หัว อ.เชียรใหญ่ | E12: ซื้อปลานิล ตัวละ ๑ บาท และอาหารกระสอบละ ๔๕๐ บาท | F12: =I12+L12 -> 57200 | I12: 5000 | K12: 1 | L12: 52200
A13: 4 | B13: เชียรใหญ่ | C13: ส่งเสริมรายได้ให้แก่เกษตรกรในฤดูแล้ง | D13: กลุ่มเกษตรกรผู้ปลูกข้าว/ต.ท้องลำเจียก อ.เชียรใหญ่ | E13: ซื้อปลานิล ตัวละ ๑ บาท และอาหารกระสอบละ ๔๕๐ บาท | F13: =I13+L13 -> 904400 | I13: 665000 | K13: 1 | L13: 239400
A14: 5 | B14: เชียรใหญ่ | C14: ส่งเสริมรายได้ให้แก่เกษตรกรในฤดูแล้ง | D14: กลุ่มเกษตรกรผู้ปลูกข้าว/ต.การะเกด อ.เชียรใหญ่ | E14: ซื้อปลานิล ตัวละ ๑ บาท และอาหารกระสอบละ ๔๕๐ บาท | F14: =I14+L14 -> 374000 | I14: 275000 | K14: 1 | L14: 99000
A15: 6 | B15: เชียรใหญ่ | C15: ส่งเสริมรายได้ในฤดูแล้ง | D15: กลุ่มเกษตรกรผู้ปลูกข้าว/ต.ท่าขนาน อ.เชียรใหญ่ | E15: ซื้อปลานิล ตัวละ ๑ บาท และอาหารกระสอบละ ๔๕๐ บาท | F15: =I15+L15 -> 816000 | I15: 600000 | K15: 1 | L15: 216000
A16: 7 | B16: เชียรใหญ่ | C16: ส่งเสริมรายได้ให้แก่เกษตรกรในฤดูแล้ง | D16: กลุ่มเกษตรกรผู้ปลูกข้าว/ต.บ้านกลาง อ.เชียรใหญ่ | E16: ซื้อปลานิล ตัวละ ๑ บาท และอาหารกระสอบละ ๔๕๐ บาท | F16: =I16+L16 -> 142800 | I16: 105000 | K16: 1 | L16: 37800
A17: 8 | B17: เชียรใหญ่ | C17: ส่งเสริมรายได้ให้แก่เกษตรกรในฤดูแล้ง | D17: กลุ่มเกษตรกรผู้ปลูกข้าว/ต.เสือหึง อ.เชียรใหญ่ | E17: ซื้อปลานิล ตัวละ ๑ บาท และอาหารกระสอบละ ๔๕๐ บาท | F17: =I17+L17 -> 571200 | I17: 420000 | K17: 1 | L17: 151200
A18: 9 | B18: เชียรใหญ่ | C18: ส่งเสริมรายได้ให้แก่เกษตรกรในฤดูแล้ง | D18: กลุ่มเกษตรกรผู้ปลูกข้าว/ต.ไสหมาก อ.เชียรใหญ่ | E18: ซื้อปลานิล ตัวละ ๑ บาท และอาหารกระสอบละ ๔๕๐ บาท | F18: =I18+L18 -> 408000 | I18: 300000 | K18: 1 | L18: 108000
A19: 10 | B19: เชียรใหญ่ | C19: ส่งเสริมรายได้ให้แก่เกษตรกรในฤดูแล้ง | D19: กลุ่มเกษตรกรผู้ปลูกข้าว/ต.บ้านเนิน อ.เชียรใหญ่ | E19: ซื้อปลานิล ตัวละ ๑ บาท และอาหารกระสอบละ ๔๕๐ บาท | F19: =I19+L19 -> 734400 | I19: 540000 | K19: 1 | L19: 194400
A20: 11 | B20: เชียรใหญ่ | C20: ส่งเสริมรายได้ให้แก่เกษตรกรในฤดูแล้ง | D20: กลุ่มเกษตรกรผู้ปลูกปาล์มน้ำมัน/ต.เชียรใหญ่ อ.เชียรใหญ่ | E20: ซื้อปลานิล ตัวละ ๑ บาท และอาหารกระสอบละ ๔๕๐ บาท | F20: =I20+L20 -> 102000 | I20: 75000 | K20: 1 | L20: 27000
A21: 12 | B21: เชียรใหญ่ | C21: ส่งเสริมรายได้ให้แก่เกษตรกรในฤดูแล้ง | D21: กลุ่มเกษตรกรผู้ปลูกปาล์มน้ำมัน/ต.เขาพระบาท อ.เชียรใหญ่ | E21: ซื้อปลานิล ตัวละ ๑ บาท และอาหารกระสอบละ ๔๕๐ บาท | F21: =I21+L21 -> 401200 | I21: 295000 | K21: 1 | L21: 106200
... A23: 14 | B23: เชียรใหญ่ | C23: ส่งเสริมรายได้ให้แก่เกษตรกรในฤดูแล้ง | D23: กลุ่มเกษตรกรผู้ปลูกปาล์มน้ำมัน/ต.ท้องลำเจียก อ.เชียรใหญ่ | E23: ซื้อปลานิล ตัวละ ๑ บาท และอาหารกระสอบละ ๔๕๐ บาท | F23: =I23+L23 -> 217600 | I23: 160000 | K23: 1 | L23: 57600
A24: 15 | B24: เชียรใหญ่ | C24: ส่งเสริมรายได้ให้แก่เกษตรกรในฤดูแล้ง | D24: กลุ่มเกษตรกรผู้ปลูกปาล์มน้ำมัน/ต.การะเกด อ.เชียรใหญ่ | E24: ซื้อปลานิล ตัวละ ๑ บาท และอาหารกระสอบละ ๔๕๐ บาท | F24: =I24+L24 -> 245000 | I24: 245000 | K24: 1
A25: 16 | B25: เชียรใหญ่ | C25: ส่งเสริมรายได้ในฤดูแล้ง | D25: กลุ่มเกษตรกรผู้ปลูกปาล์มน้ำมัน/ต.ท่าขนาน อ.เชียรใหญ่ | E25: ซื้อปลานิล ตัวละ ๑ บาท และอาหารกระสอบละ ๔๕๐ บาท | F25: =I25+L25 -> 197200 | I25: 145000 | K25: 1 | L25: 52200
A26: 17 | B26: เชียรใหญ่ | C26: ส่งเสริมรายได้ให้แก่เกษตรกรในฤดูแล้ง | D26: กลุ่มเกษตรกรผู้ปลูกปาล์มน้ำมัน/ต.บ้านกลาง อ.เชียรใหญ่ | E26: ซื้อปลานิล ตัวละ ๑ บาท และอาหารกระสอบละ ๔๕๐ บาท | F26: =I26+L26 -> 176800 | I26: 130000 | K26: 1 | L26: 46800
A27: 18 | B27: เชียรใหญ่ | C27: ส่งเสริมรายได้ให้แก่เกษตรกรในฤดูแล้ง | D27: กลุ่มเกษตรกรผู้ปลูกปาล์มน้ำมัน/ต.เสือหึง อ.เชียรใหญ่ | E27: ซื้อปลานิล ตัวละ ๑ บาท และอาหารกระสอบละ ๔๕๐ บาท | F27: =I27+L27 -> 395400 | I27: 245000 | K27: 1 | L27: 150400
A28: 19 | B28: เชียรใหญ่ | C28: ส่งเสริมรายได้ให้แก่เกษตรกรในฤดูแล้ง | D28: กลุ่มเกษตรกรผู้ปลูกปาล์มน้ำมัน/ต.ไสหมาก อ.เชียรใหญ่ | E28: ซื้อปลานิล ตัวละ ๑ บาท และอาหารกระสอบละ ๔๕๐ บาท | F28: =I28+L28 -> 285600 | I28: 210000 | K28: 1 | L28: 75600
A29: 20 | B29: เชียรใหญ่ | C29: ส่งเสริมรายได้ให้แก่เกษตรกรในฤดูแล้ง | D29: กลุ่มเกษตรกรผู้ปลูกปาล์มน้ำมัน/ต.บ้านเนิน อ.เชียรใหญ่ | E29: ซื้อปลานิล ตัวละ ๑ บาท และอาหารกระสอบละ ๔๕๐ บาท | F29: =I29+L29 -> 639200 | I29: 470000 | K29: 1 | L29: 169200
A30: 21 | B30: เชียรใหญ่ | C30: ส่งเสริมรายได้ในฤดูแล้ง | D30: กลุ่มเกษตรกรผู้ปลูกยางพารา/ต.เขาพระบาท อ.เชียรใหญ่ | E30: ซื้อปลานิล ตัวละ ๑ บาท และอาหารกระสอบละ ๔๕๐ บาท | F30: =I30+L30 -> 136000 | I30: 100000 | K30: 1 | L30: 36000
A31: 22 | B31: เชียรใหญ่ | C31: ส่งเสริมรายได้ให้แก่เกษตรกรในฤดูแล้ง | D31: กลุ่มเกษตรกรผู้ปลูกยางพารา/ต.แม่เจ้าอยู่หัว อ.เชียรใหญ่ | E31: ซื้อปลานิล ตัวละ ๑ บาท และอาหารกระสอบละ ๔๕๐ บาท | F31: =I31+L31 -> 102000 | I31: 75000 | K31: 1 | L31: 27000
A32: 23 | B32: เชียรใหญ่ | C32: ส่งเสริมรายได้ให้แก่เกษตรกรในฤดูแล้ง | D32: กลุ่มเกษตรกรผู้ปลูกยางพารา/ต.การะเกด อ.เชียรใหญ่ | E32: ซื้อปลานิล ตัวละ ๑ บาท และอาหารกระสอบละ ๔๕๐ บาท | F32: =I32+L32 -> 13600 | I32: 10000 | K32: 1 | L32: 3600
A33: 24 | B33: เชียรใหญ่ | C33: ส่งเสริมรายได้ให้แก่เกษตรกรในฤดูแล้ง | D33: กลุ่มเกษตรกรผู้ปลูกยางพารา/ต.เสือหึง อ.เชียรใหญ่ | E33: ซื้อปลานิล ตัวละ ๑ บาท และอาหารกระสอบละ ๔๕๐ บาท | F33: =I33+L33 -> 20400 | I33: 15000 | K33: 1 | L33: 5400
A34: 25 | B34: ทุ่งสง | C34: กลุ่มเลี้ยงปลาดุกในบ่อพลาสติก | D34: กลุ่มเกษตรกรอาชีพทำสวน/ต.เขาขาว ต.น้ำตก อ.ทุ่งสง | E34: จัดซื้อพันธุ์ปลา อาหารปลา บ่อพลาสติก ขนาด ๒X ๕ เมตร | F34: 325000 | G34: 50000 | K34: 1 | L34: 250000 | P34: 25000
A35: 26 | B35: นาบอน | C35: ส่งเสริมสนับสนุนอาชีพเสริมแก่เกษตรกรผู้ประสบความเดือดร้อนจากราคาผลผลิตยางพาราตกต่ำ | D35: กลุ่มเกษตกรผู้เดือดร้อนจากราคายางตกต่ำ/ อ.นาบอน | E35: จัดซื้อวัสดุอุปกรณ์การทำบ่อเลี้ยงปลา, ซื้อพันธุ์ปลาดุก อาหารปลาดุกเล็ก และน้ำหมักชีวภาพ | F35: 204330 | H35: 69500 | K35: 1 | L35: 76450 | P35: 58380
A36: 27 | B36: ปากพนัง | C36: ส่งเสริมความเข้มแข็งแก่กลุ่มอาชีพประมงชายฝั่ง | D36: กลุ่มอาชีพประมงชายฝั่งทะเลอ่าวไทย/ต.แหลมตะลุมพุก อ.ปากพนัง | E36: จัดซื้อเครื่องมือประมงประเภทอวนปู จำนวน ๗,๘๗๐ ผืน ๆ ละ ๒๓๐ บาท | F36: 1810100 | O36: 1810100
A37: 28 | B37: ปากพนัง | C37: พัฒนาอาชีพกลุ่มเกษตรกรด้านประมงในบ่อดิน | D37: กลุ่มเกษตรกรผู้เลี้ยงปลา/อ.ปากพนัง | E37: เลี้ยงปลานิลและปลากะพงในบ่อดิน จัดซื้อพันธุ์ปลานิล และปลากะพง | F37: 3972000 | I37: 2574000 | J37: 1398000 | K37: ไม่ระบุ
A38: 29 | B38: พรหมคีรี | C38: ส่งเสริมอาชีพและเพิ่มรายได้ให้เกษตรกรกลุ่มชาวนา | D38: กลุ่มเกษตรกรชาวนา ต.นาเรียง อ.พรหมคีรี | E38: เลี้ยงปลาในกระชัง ซื้อกระชังเลี้ยงปลา โครงเหล็กพร้อมติดตั้ง ถังน้ำพลาสติก อาหาร และพันธุ์ปลา | F38: 182720 | I38: 12000 | K38: 1 | L38: 60000 | P38: 110720
A39: 30 | B39: สิชล | C39: โครงการเลี้ยงปลาดุกในบ่อซีเมนต์ ต.ฉลอง | D39: กลุ่มเกษตรกรเลี้ยงปลาดุกอุยในบ่อซีเมนต์/ม.๔ ม.๘ ต.ฉลอง อ.สิชล | E39: จัดซื้อพันธุ์ปลาดุก อาหาร และยา | F39: 196000 | G39: 126500 | K39: 2 | L39: 69500
A40: 31 | B40: สิชล | C40: โครงการเลี้ยงปลาในบ่อซีเมนต์ ต.เทพราช | D40: กลุ่มเกษตรกรเลี้ยงปลาดุกอุยในบ่อซีเมนต์/ม.๔ ต.เทพราช อ.สิชล | E40: จัดซื้อพันธุ์ปลาดุกอุย อาหารปลาดุก อาหารเสริม ยาป้องกันโรค ค่าจัดเตรียมบ่อเลี้ยงพร้อมอุปกรณ์ | F40: 204000 | G40: 80000 | K40: 2 | L40: 82500 | M40: 11500 | N40: 6000 | P40: 24000
E41: รวม | F41: =SUM(F10:F40) -> 15309750 | G41: =SUM(G10:G40) -> 256500 | H41: =SUM(H10:H40) -> 69500 | I41: =SUM(I10:I40) -> 8756000 | J41: =SUM(J10:J40) -> 1398000 | L41: =SUM(L10:L40) -> 2784050 | M41: =SUM(M10:M40) -> 11500 | N41: =SUM(N10:N40) -> 6000 | O41: =SUM(O10:O40) -> 1810100 | P41: =SUM(P10:P40) -> 218100

Sheet เศรษฐกิจพอเพียง
A1: แบบสรุปโครงการมาตรการ
A2: เร่งด่วนแก้ปัญหาด้านการผลิตและรายได้ เพื่อเสริมสร้างความเข้มแข็ง
A4: จังหวัดนครศรีธรรมราช
C6: กิจกรรมด้านเศรษฐกิจพอเพียง (รหัส ๕)
A7: ลำดับ | B7: อำเภอ | C7: โครงการ | D7: กลุ่มที่รองรับ/ที่ตั้ง | E7: กิจกรรม | F7: รหัส | G7: งบประมาณ | H7: ประชาชนได้รับประโยชน์ จำนวน (ครัวเรือน)
A8: 1 | B8: จุฬาภรณ์ | C8: โครงการส่งเสริมการดำเนินชีวิตตามแนวเศรษฐกิจพอเพียง | D8: กลุ่มแม่บ้าน สตรี/อ.จุฬาภรณ์ | E8: ฝึกอบรมให้ความรู้ในการดำเนินชีวิตตามแนวเศรษฐกิจพอเพียง อบรม ๓ รุ่นๆละ ๑๐๐ คน | F8: 5 | G8: 129200 | H8: 300
F9: รวม | G9: =SUM(G8:G8) -> 129200 | H9: =SUM(H8:H8) -> 300

Sheet ปัจจัยผลิตทางการเกษตร
A1: แบบสรุปโครงการมาตรการ
A2: เร่งด่วนแก้ปัญหาด้านการผลิตและรายได้ เพื่อเสริมสร้างความเข้มแข็ง
A4: จังหวัดนครศรีธรรมราช
C5: กิจกรรมด้านปัจจัยการผลิตทางการเกษตร (รหัส ๖) โรงเรือน/โรงสีข้าว/ส่งเสริมและพัฒนาการทำปุ๋ย/เครื่องมือทางการเกษตร/อุปกรณ์เลี้ยงผึ้ง
A7: ลำดับ | B7: อำเภอ | C7: โครงการ | D7: กลุ่มที่รองรับ/ที่ตั้ง | E7: กิจกรรม | F7: รหัส | G7: งบประมาณ | H7: ประชาชนได้รับประโยชน์ จำนวน (ครัวเรือน)
A8: 1 | B8: จุฬาภรณ์ | C8: โครงการกลุ่มเกษตรอินทรีย์ศรีจุฬา เกษตรทฤษฎีใหม่แบบผสมผสาน | D8: กลุ่มเกษตรอินทรีย์ศรีจุฬา/ ต.นาหมอบุญ อ.จุฬาภรณ์ | E8: สร้างโรงเรือนเกษตรพืชผักและการแปรรูปผลผลิต (๒๐,๐๐๐ บาท), สร้างโรงเรือนเกษตรอินทรีย์ปศุสัตว์ (๖๐,๐๐๐ บาท) พลังงานและอุปกรณ์ (๕๐,๐๐๐ บาท) เทคโนโลยี (ตู้อบฟักไข่ขยายพันธุ์ ๔๐,๐๐๐ บาท) ซื้อเครื่องมือทางการเกษตร (เครื่องปั๋มน้ำและท่อพีวีซี) (๖๐,๐๐๐ บาท) ซื้อตู้อบพลังงานแสงอาทิตย์ (๑๐๐,๐๐๐ บาท) | F8: 6 | G8: 330000 | H8: 10
A9: 2 | B9: ฉวาง | C9: โครงการเลี้ยงโคพันธุ์พื้นเมือง ต.ละอาย | D9: กลุ่มอาชีพการเลี้ยงโคพันธุ์พื้นเมือง/ต.ละอาย อ.ฉวาง | E9: จัดสร้างโรงเรือน ขนาดกว้าง ๕ เมตร ยาว ๘ เมตร | F9: 6 | G9: 54000 | H9: 16 | K9: 50 | L9: 15000 | N9: 40000
A10: 3 | B10: ฉวาง | C10: โครงการเลี้ยงโคพันธุ์เนื้อ (ชาโลเล่) ตำบลฉวาง | D10: กลุ่มส่งเสริมการเลี้ยงโคพันธุ์เนื้อ/ต.ฉวาง อ.ฉวาง | E10: จัดสร้างโรงเรือนเลี้ยงโคพันธุ์เนื้อ | F10: 6 | G10: 49000 | H10: 19
A11: 4 | B11: ฉวาง | C11: โครงการเลี้ยงโคพันธุ์เนื้อ (ชาโลเล่) ต.นาแว | D11: กลุ่มส่งเสริมการเลี้ยงโคพันธุ์เนื้อ/ต.นาแว อ.ฉวาง | E11: จัดสร้างโรงเรือนเลี้ยงโคพันธุ์เนื้อ | F11: 6 | G11: 82000 | H11: 17
A12: 5 | B12: ฉวาง | C12: โครงการเลี้ยงโคพื้นเมือง ต.นาเขลียง | D12: กลุ่มเลี้ยงโคพันธุ์พื้นเมือง/ต.นาเขลียง อ.ฉวาง | E12: ต่อเติมโรงเรือนเลี้ยงโค | F12: 6 | G12: 200000 | H12: 20
A13: 6 | B13: ฉวาง | C13: โครงการเลี้ยงโคพันธุ์พื้นบ้าน ต.ไสหร้า | D13: กลุ่มอาชีพการเลี้ยงโคพันธุ์พื้นบ้าน/ต.ไสหร้า อ.ฉวาง | E13: ปรับปรุงโรงเรือนเลี้ยงโคพันธุ์พื้นบ้าน ๑๐๐,๐๐๐ บาท ซื้อเครื่องบดหญ้า ๕๐,๐๐๐ บาท | F13: 6 | G13: 150000 | H13: 30
A14: 7 | B14: ฉวาง | C14: โครงการเลี้ยงโคพันธุ์เนื้อ (ชาโลเล่) ต.จันดี | D14: กลุ่มส่งเสริมการเลี้ยงโคพันธุ์เนื้อ/ต.จันดี อ.ฉวาง | E14: จัดสร้างโรงเรือนเลี้ยงโคพันธุ์เนื้อ (ชาโลเล่),ปรับปรุงพื้นที่/ค่าแรงคนงาน | F14: 6 | G14: 70000 | H14: 18
A15: 8 | B15: ถ้ำพรรณรา | C15: ชุมชนสุขภาพดี ผลิตปุ๋ยหมักชีวภาพใช้เอง ลดรายจ่าย เพิ่มผลผลิตและเพิ่มรายได้แก่เกษตรกร | D15: กลุ่มผลิตปุ๋ยหมักชีวภาพ/อ.ถ้ำพรรณรา | E15: จัดซื้อวัสดุอุปกรณ์ในการผลิตปุ๋ยหมักอินทรีย์ชีวภาพ จำนวน ๒๗ กลุ่ม | F15: 6 | G15: 1530000 | H15: 973
A16: 9 | B16: ทุ่งสง | C16: กลุ่มอาชีพปลูกผักปลอดสารพิษไฮโดรโปนิคส์ | D16: กลุ่มปลูกผักปลอดสารพิษไฮโดรโปนิกส์/ม.๑๑ ต.เขาโร อ.ทุ่งสง | E16: สร้างโรงเรือนปลูกผักไฮโดรโปนิคส์สำเร็จรูป ๕ หลัง ๆละ ๑๕,๐๐๐ บาท | F16: 6 | G16: 75000 | H16: 25
A17: 10 | B17: ทุ่งสง | C17: กลุ่มเลี้ยงโคพันธุ์พื้นเมืองทุ่งควนเหล็ก ม.๓ ต.เขาโร อ.ทุ่งสง | D17: กลุ่มเกษตกรเลี้ยงวัวพื้นเมือง/ต.เขาโร อ.ทุ่งสง | E17: ปรับปรุงแปลงหญ้าอาหารสัตว์และซ่อมแซมโรงเรือน | F17: 6 | G17: 592290 | H17: 30
A18: 11 | B18: ทุ่งสง | C18: กลุ่มปุ๋ยหมักชีวภาพ | D18: กลุ่มปุ๋ยหมักชีวภาพ,กลุ่มสวนยางพารา/ม.๘ ต.นาไม้ไผ่, ต.ควนกรด,ม.๔ ต.ควนกรด ต.ควนกรด อ.ทุ่งสง | E18: ส่งเสริมและพัฒนาการทำปุ๋ย จัดซื้อวัสดุอุปกรณ์ในการผลิตปุ๋ยหมักชีวภาพ | F18: 6 | G18: 1137900 | H18: 500
A19: 12 | B19: ทุ่งสง | C19: กลุ่มเลี้ยงผึ้ง | D19: กลุ่มอาชีพเลี้ยงผึ้ง/ต.เขาโร, ต.นาไม้ไผ่ อ.ทุ่งสง | E19: จัดซื้ออุปกรณ์การเลี้ยงผึ้ง | F19: 6 | G19: 1357100 | H19: 89
A20: 13 | B20: ทุ่งใหญ่ | C20: วิสาหกิจชุมชนปลูกข้าวไร่เพื่อบริโภค สู่การแปรรูปการผลิตข้าวซ้อมมือเพื่อสุขภาพ | D20: กลุ่มประชาชน ม.๖ ต.ท่ายาง อ.ทุ่งใหญ่ | E20: ซื้อเครื่องสีกระเทาะเมล็ดข้าว ๑ เครื่อง (๗๕,๐๐๐ บาท) อุปกรณ์เครื่องผลิตข้าวซ้อมมือ ๑ ชุด (๓๕,๐๐๐ บาท) | F20: 6 | G20: 110000 | H20: 20
A21: 14 | B21: นาบอน | C21: โครงการก่อสร้างโรงอบยางพาราแผ่นด้วยพลังงานแสงอาทิตย์ | D21: กลุ่มปรับปรุงคุณภาพยางแผ่นของเกษตกรรายย่อย/อ.นาบอน | E21: ก่อสร้างโรงอบยางพาราแผ่นด้วยพลังงานแสงอาทิตย์ จำนวน ๕ โรง | F21: 6 | G21: 1317950 | H21: 93
... A33: 26 | B33: สิชล | C33: โครงการเลี้ยงแพะเนื้อขุนมาตรฐาน ต.เสาเภา | D33: กลุ่มเกษตรกรเลี้ยงแพะเนื้อขุน/ต.เสาเภา อ.สิชล | E33: สร้างโรงเรือนเลี้ยงแพะขนาดกว้าง ๓.๖ เมตร ซื้อวัสดุอุปกรณ์ และค่าจ้างแรงงาน | F33: 6 | G33: 60000 | H33: 20
